BEGIN:VCALENDAR
VERSION:2.0
PRODID:-//ChamberMaster//Event Calendar 2.0//EN
METHOD:PUBLISH
X-PUBLISHED-TTL:P3D
REFRESH-INTERVAL:P3D
CALSCALE:GREGORIAN
BEGIN:VEVENT
DTSTART:20241029T013000Z
DTEND:20241029T040000Z
X-MICROSOFT-CDO-ALLDAYEVENT:FALSE
SUMMARY:1920's Movie Monday
DESCRIPTION:Bring your friends and family as we roll out our authentic 1920's era film projector and dust off our old film for a movie night featuring our Misadventure cocktails and an old movie. Bring Blankets if you get cold!
X-ALT-DESC;FMTTYPE=text/html:Bring your friends and family as we roll out our authentic 1920&#39\;s era film projector and dust off our old film for a movie night featuring our Misadventure cocktails and an old movie. Bring Blankets if you get cold!
LOCATION:Misadventure & Co Patio 2420 Grand Ave. #C Vista\, CA 92081
UID:e.493.28943
SEQUENCE:3
DTSTAMP:20260423T021757Z
URL:https://business.vistachamber.org/events/details/1920-s-movie-monday-28943
END:VEVENT

END:VCALENDAR
