BEGIN:VCALENDAR
VERSION:2.0
PRODID:-//ChamberMaster//Event Calendar 2.0//EN
METHOD:PUBLISH
X-PUBLISHED-TTL:P3D
REFRESH-INTERVAL:P3D
CALSCALE:GREGORIAN
BEGIN:VEVENT
DTSTART:20181108T170000Z
DTEND:20181108T190000Z
X-MICROSOFT-CDO-ALLDAYEVENT:FALSE
SUMMARY:2018 Veterans Forum
DESCRIPTION:Supervisor Bill Horn and the County of San Diego invite  you to attend the 2018 VETERANS FORUM "Uncommon Heroes\, Common Virtues". Honoring our Vietnam Veterans. This year's forum will address innovations in the diagnosis and treatment of service related injuries. Active Duty servicemembers\, Veterans\, Milityary/Veterans service providers\, community-based organizations and community members are encouraged to attend the Veterans Forum to learn\, to be inspired and to discover the resources available through San Diego County and local non-profit organizations. Light refreshments will be served. We invite veterans to attend wearing their medals and honors.
X-ALT-DESC;FMTTYPE=text/html:Supervisor Bill Horn and the County of San Diego invite&nbsp\; you to attend the 2018 VETERANS FORUM &quot\;Uncommon Heroes\, Common Virtues&quot\;. Honoring our Vietnam Veterans. This year&#39\;s forum will address innovations in the diagnosis and treatment of service related injuries. Active Duty servicemembers\, Veterans\, Milityary/Veterans service providers\, community-based organizations and community members are encouraged to attend the Veterans Forum to learn\, to be inspired and to discover the resources available through San Diego County and local non-profit organizations. Light refreshments will be served. We invite veterans to attend wearing their medals and honors.&nbsp\;
LOCATION:North Inland Live Well Center 649 W. Mission Avenue Escondido
UID:e.493.18690
SEQUENCE:3
DTSTAMP:20260426T000854Z
URL:https://business.vistachamber.org/events/details/2018-veterans-forum-18690
END:VEVENT

END:VCALENDAR
