BEGIN:VCALENDAR
VERSION:2.0
PRODID:-//ChamberMaster//Event Calendar 2.0//EN
METHOD:PUBLISH
X-PUBLISHED-TTL:P3D
REFRESH-INTERVAL:P3D
CALSCALE:GREGORIAN
BEGIN:VEVENT
DTSTART:20200318T223000Z
DTEND:20200319T010000Z
X-MICROSOFT-CDO-ALLDAYEVENT:FALSE
SUMMARY:2020 Rent Control & Eviction Updates
DESCRIPTION:California Rent Control And What You Need to Know - 2020 is the year of change for Landlords - Tenants - Investors - Property Managers!
X-ALT-DESC;FMTTYPE=text/html:California Rent Control And What You Need to Know - 2020 is the year of change for Landlords - Tenants - Investors - Property Managers!
LOCATION:Escondido Center for the Arts 340 North Escondido Blvd.\, Escondido CA
UID:e.493.19651
SEQUENCE:3
DTSTAMP:20260425T155003Z
URL:https://business.vistachamber.org/events/details/2020-rent-control-eviction-updates-19651
END:VEVENT

END:VCALENDAR
