BEGIN:VCALENDAR
VERSION:2.0
PRODID:-//ChamberMaster//Event Calendar 2.0//EN
METHOD:PUBLISH
X-PUBLISHED-TTL:P3D
REFRESH-INTERVAL:P3D
CALSCALE:GREGORIAN
BEGIN:VEVENT
DTSTART:20220904T160000Z
DTEND:20220904T210000Z
X-MICROSOFT-CDO-ALLDAYEVENT:FALSE
SUMMARY:32nd Annual Vista Rod Run
DESCRIPTION:The 32nd Annual Vista Rod Run is the best car show in North County!! Music throughout event\, vendors\, fun shops\, breweries and restaurants.\n\nFeatures 300 + classic and specialty cars. Car owners compete for the best of the best to win awards and prizes.\n\nAlso come enjoy the street fair with arts\, craft and food vendors\, live entertainment and downtown shopping.
X-ALT-DESC;FMTTYPE=text/html:<p style="box-sizing: border-box\; margin-top: 0px\; margin-bottom: 1rem\; font-size: 17px\; line-height: 1.5\; color: rgb(34\, 34\, 34)\; font-family: &quot\;Proxima Nova W05 Regular&quot\;\, sans-serif\;">The 32nd Annual Vista Rod Run is the best car show in North County!! Music throughout event\, vendors\, fun shops\, breweries and restaurants.</p>\n\n<p style="box-sizing: border-box\; margin-top: 0px\; margin-bottom: 1rem\; font-size: 17px\; line-height: 1.5\; color: rgb(34\, 34\, 34)\; font-family: &quot\;Proxima Nova W05 Regular&quot\;\, sans-serif\;">Features 300 + classic and specialty cars. Car owners compete for the best of the best to win awards and prizes.</p>\n\n<p style="box-sizing: border-box\; margin-top: 0px\; margin-bottom: 1rem\; font-size: 17px\; line-height: 1.5\; color: rgb(34\, 34\, 34)\; font-family: &quot\;Proxima Nova W05 Regular&quot\;\, sans-serif\;">Also come enjoy the street fair with arts\, craft and food vendors\, live entertainment and downtown shopping.</p>\n
LOCATION:Historic Downtown Vista
UID:e.493.24128
SEQUENCE:3
DTSTAMP:20260424T172123Z
URL:https://business.vistachamber.org/events/details/32nd-annual-vista-rod-run-24128
END:VEVENT

END:VCALENDAR
