BEGIN:VCALENDAR
VERSION:2.0
PRODID:-//ChamberMaster//Event Calendar 2.0//EN
METHOD:PUBLISH
X-PUBLISHED-TTL:P3D
REFRESH-INTERVAL:P3D
CALSCALE:GREGORIAN
BEGIN:VEVENT
DTSTART:20210705T010000Z
DTEND:20210705T050000Z
X-MICROSOFT-CDO-ALLDAYEVENT:FALSE
SUMMARY:4th of July at Alta Vista Gardens
DESCRIPTION:Spaces are filling up fast for our viewing party and we don't want you to miss out!\n\n \n\nYou won't want to miss this exclusive opportunity for our members to enjoy a private viewing of the Vista July 4th Fireworks right in the Gardens! Tickets are $25 per person. All money goes to help fund and maintain the gardens. \n\n\n\nPack up the car with family & friends\, a picnic dinner\, drinks\, chairs\, blankets\, flashlights\, and join in the fun.
X-ALT-DESC;FMTTYPE=text/html:<h2 align="center" style="color: rgb(32\, 32\, 32)\; font-size: 16.5pt\; font-family: Helvetica\, sans-serif\; font-weight: bold\; text-align: center\; margin: 0px\; line-height: 27.5px\;"><span style="margin: 0px\; padding: 0px\; border: 0px\; font: inherit\; vertical-align: baseline\; color: red\;">Spaces are filling up fast for our viewing party and we don&#39\;t want you to miss out!</span><br />\n&nbsp\;</h2>\n\n<p align="center" style="color: rgb(50\, 49\, 48)\; font-size: 11pt\; font-family: Calibri\, sans-serif\; text-align: center\; margin: 0px 0px 7.5pt\; line-height: 22px\;"><span style="margin: 0px\; padding: 0px\; border: 0px\; font-style: inherit\; font-variant: inherit\; font-weight: inherit\; font-stretch: inherit\; font-size: 12pt\; line-height: 24px\; font-family: Helvetica\, sans-serif\, serif\, EmojiFont\; vertical-align: baseline\; color: rgb(32\, 32\, 32)\;">You won&#39\;t want to miss this&nbsp\;exclusive opportunity for our members to&nbsp\;enjoy a private viewing of the Vista July 4th Fireworks right in the Gardens! Tickets are $25 per person. All money goes to help fund and maintain the gardens.&nbsp\;<br />\n<br />\nPack up the car with family &amp\; friends\, a picnic dinner\, drinks\, chairs\, blankets\, flashlights\, and join in the fun.</span></p>\n
LOCATION:Alta Vista Gardens inside Brengle Terrace Park 1200 Vale Terrace\, Vista
UID:e.493.21481
SEQUENCE:3
DTSTAMP:20260425T154835Z
URL:https://business.vistachamber.org/events/details/4th-of-july-at-alta-vista-gardens-21481
END:VEVENT

END:VCALENDAR
