BEGIN:VCALENDAR
VERSION:2.0
PRODID:-//ChamberMaster//Event Calendar 2.0//EN
METHOD:PUBLISH
X-PUBLISHED-TTL:P3D
REFRESH-INTERVAL:P3D
CALSCALE:GREGORIAN
BEGIN:VEVENT
DTSTART:20210705T000000Z
DTEND:20210705T050000Z
X-MICROSOFT-CDO-ALLDAYEVENT:FALSE
SUMMARY:4th of July at Brengle Terrace and Moonlight
DESCRIPTION:Vista's annual Independence Day Celebration will be held on Sun.\, July 4 at Brengle Terrace Park\, 1200 Vale Terrace Dr. Live entertainment and the pre-fireworks Fun Filled Fourth BBQ dinner at the Moonlight Amphitheatre are returning this year. Brengle Terrace Park will open at 5:00 p.m. to ticket holders with fireworks beginning at 9:00 p.m.\n\n\n\nPark admission on July 4 is $15 per vehicle and $30 for recreational vehicles. Each are limited to one admission per household. Entry into the Moonlight Amphitheatre is $5 per person. The Fun Filled Fourth BBQ dinner at the Moonlight is $45 per person and includes reserved seats\, upgraded parking\, and a catered BBQ dinner from That Boy Good Catering. Dinner service begins at 6:30 p.m. and concludes at 7:30 p.m. Dinners must be purchased in advance by June 28.\n\nTaking the stage of the Moonlight Amphitheatre at 7:35 p.m. are the DecaDames\, a San Diego-based rock band performing a tribute to powerhouse singers from throughout the decades.
X-ALT-DESC;FMTTYPE=text/html:<span style="color: rgb(34\, 34\, 34)\; font-family: Verdana\, Geneva\, sans-serif\; font-size: 15px\;"><span style="font-size:14px\;">Vista&#39\;s annual Independence Day Celebration will be held on Sun.\, July 4 at Brengle Terrace Park\, 1200 Vale Terrace Dr. Live entertainment and the pre-fireworks Fun Filled Fourth BBQ dinner at the Moonlight Amphitheatre are returning this year. Brengle Terrace Park will open at 5:00 p.m. to ticket holders with fireworks beginning at 9:00 p.m.<br />\n<br />\nPark admission on July 4 is $15 per vehicle and $30 for recreational vehicles. Each are limited to one admission per household. Entry into the Moonlight Amphitheatre is $5 per person. The Fun Filled Fourth BBQ dinner at the Moonlight is $45 per person and includes reserved seats\, upgraded parking\, and a catered BBQ dinner from That Boy Good Catering. Dinner service begins at 6:30 p.m. and concludes at 7:30 p.m. Dinners must be purchased in advance by June 28.<br />\nTaking the stage of the Moonlight Amphitheatre at 7:35 p.m. are the DecaDames\, a San Diego-based rock band performing a tribute to powerhouse singers from throughout the decades.</span></span>
LOCATION:Brengle Terrace Park and Moonlight Amphitheatre 1200 Vale Terrace\, Vista
UID:e.493.21482
SEQUENCE:3
DTSTAMP:20260425T152622Z
URL:https://business.vistachamber.org/events/details/4th-of-july-at-brengle-terrace-and-moonlight-21482
END:VEVENT

END:VCALENDAR
