BEGIN:VCALENDAR
VERSION:2.0
PRODID:-//ChamberMaster//Event Calendar 2.0//EN
METHOD:PUBLISH
X-PUBLISHED-TTL:P3D
REFRESH-INTERVAL:P3D
CALSCALE:GREGORIAN
BEGIN:VEVENT
DTSTART:20241207T210000Z
DTEND:20241207T230000Z
X-MICROSOFT-CDO-ALLDAYEVENT:FALSE
SUMMARY:66th Annual Vista Christmas Parade
DESCRIPTION:Join us for the 66th Annual Vista Christmas Parade!\n\n\n\nThe theme this year is:\n\n\n\n"Christmas at the Movies"\n\n\n\nDecorate your float as your favorite holiday movie!\n\n\n\nREGISTER NOW
X-ALT-DESC;FMTTYPE=text/html:<div style="text-align: center\;"><span style="font-size:14px\;"><span style="font-size:16px\;">Join us&nbsp\;for the 66th Annual Vista Christmas Parade!<br />\n<br />\nThe theme this year is:<br />\n<br />\n<span style="font-size:18px\;"><em><strong>&quot\;Christmas at the Movies&quot\;</strong></em></span><br />\n<br />\nDecorate your float as your favorite holiday movie!</span><br />\n<br />\n<span style="font-family:arial\;"><span style="font-size:18px\;"><strong><a href="https://www.vistachamber.org/christmas-parade/"><span style="color:#008000\;">REGISTER NOW</span></a></strong></span></span></span></div>\n
LOCATION:Downtown Vista
UID:e.493.28306
SEQUENCE:3
DTSTAMP:20260421T104331Z
URL:https://business.vistachamber.org/events/details/66th-annual-vista-christmas-parade-28306
END:VEVENT

END:VCALENDAR
