BEGIN:VCALENDAR
VERSION:2.0
PRODID:-//ChamberMaster//Event Calendar 2.0//EN
METHOD:PUBLISH
X-PUBLISHED-TTL:P3D
REFRESH-INTERVAL:P3D
CALSCALE:GREGORIAN
BEGIN:VEVENT
DTSTART:20240804T023000Z
DTEND:20240804T050000Z
X-MICROSOFT-CDO-ALLDAYEVENT:FALSE
SUMMARY:90's House Party: Kid n/Play\, Tone Loc\, C&C Music Factory\, Young MC
DESCRIPTION:The 90's House Party Tour features performances by an iconic lineup of 90's artists that bring you back to the trend-setting decade with some of the most indelible names in rap\, hip hop and R&B including Kid n Play\, Tone Loc\, C+C Music Factory\, and Young MC.
X-ALT-DESC;FMTTYPE=text/html:<span style="font-family: Cabin\, sans-serif\; font-size: 14px\; background-color: rgb(250\, 250\, 250)\;">The 90&rsquo\;s House Party Tour features performances by an iconic lineup of 90&rsquo\;s artists that bring you back to the trend-setting decade with some of the most indelible names in rap\, hip hop and R&amp\;B including Kid n Play\, Tone Loc\, C+C Music Factory\, and Young MC.</span>
LOCATION:Moonlight Amphitheatre 1250 Vale Terrace Dr. Vista\, CA 92084
UID:e.493.27329
SEQUENCE:3
DTSTAMP:20260423T073236Z
URL:https://business.vistachamber.org/events/details/90-s-house-party-kid-n-play-tone-loc-c-c-music-factory-young-mc-27329
END:VEVENT

END:VCALENDAR
