BEGIN:VCALENDAR
VERSION:2.0
PRODID:-//ChamberMaster//Event Calendar 2.0//EN
METHOD:PUBLISH
X-PUBLISHED-TTL:P3D
REFRESH-INTERVAL:P3D
CALSCALE:GREGORIAN
BEGIN:VEVENT
DTSTART:20240727T230000Z
DTEND:20240728T040000Z
X-MICROSOFT-CDO-ALLDAYEVENT:FALSE
SUMMARY:Alley Art on the Asphalt
DESCRIPTION:The 10th annual Alley Art Festival is an inclusive and interactive art festival returning this year back to downtown Vista!!!\n\nLocated in The Backfence Society parking lot and along S. Citrus Ave in downtown Vista! Enjoy connecting with creatives and the community at this free to the public interactive art festival.\n\nThis event is for all ages and FREE to the public\, with interactive art activities and crafts including: Live Art\, Live Music\, Lowriders\, Silent Disco\, Food Vendors & Kid Zone!\n\nLive music featuring local musicians and an artist vendor market - meet other creatives and support artists and musicians.\n\nVendors wanted! We are looking for creatives\, makers\, artists\, and handmade goods. All works should be made\, curated\, or collected by the vendor.
X-ALT-DESC;FMTTYPE=text/html:<p style="margin: 0px\; padding: 0px\; box-sizing: border-box\; font-size: 16px\; line-height: 1.5rem\; color: rgb(111\, 114\, 135)\; font-family: &quot\;Neue Plak&quot\;\, -apple-system\, BlinkMacSystemFont\, Roboto\, &quot\;Helvetica Neue&quot\;\, Helvetica\, Tahoma\, Arial\, sans-serif\;"><span style="font-size:16px\;"><span style="color:#000000\;">The 10th annual Alley Art Festival is an inclusive and interactive art festival returning this year back to downtown Vista!!!</span></span></p>\n\n<p style="margin: 0px\; padding: 10px 0px 0px\; box-sizing: border-box\; font-size: 16px\; line-height: 1.5rem\; color: rgb(111\, 114\, 135)\; font-family: &quot\;Neue Plak&quot\;\, -apple-system\, BlinkMacSystemFont\, Roboto\, &quot\;Helvetica Neue&quot\;\, Helvetica\, Tahoma\, Arial\, sans-serif\;"><span style="font-size:16px\;"><span style="color:#000000\;">Located in The Backfence Society parking lot and along S. Citrus Ave in downtown Vista! Enjoy connecting with creatives and the community at this free to the public interactive art festival.</span></span></p>\n\n<p style="margin: 0px\; padding: 10px 0px 0px\; box-sizing: border-box\; font-size: 16px\; line-height: 1.5rem\; color: rgb(111\, 114\, 135)\; font-family: &quot\;Neue Plak&quot\;\, -apple-system\, BlinkMacSystemFont\, Roboto\, &quot\;Helvetica Neue&quot\;\, Helvetica\, Tahoma\, Arial\, sans-serif\;"><span style="font-size:16px\;"><span style="color:#000000\;"><span style="font-weight: 700\; box-sizing: border-box\; padding-top: 0px\;">This event is for all ages and FREE to the public\, with interactive art activities and crafts including:&nbsp\;</span><span style="font-weight: 700\; box-sizing: border-box\;">Live Art\, Live Music\, Lowriders\, Silent Disco\, Food Vendors &amp\; Kid Zone!</span></span></span></p>\n\n<p style="margin: 0px\; padding: 10px 0px 0px\; box-sizing: border-box\; font-size: 16px\; line-height: 1.5rem\; color: rgb(111\, 114\, 135)\; font-family: &quot\;Neue Plak&quot\;\, -apple-system\, BlinkMacSystemFont\, Roboto\, &quot\;Helvetica Neue&quot\;\, Helvetica\, Tahoma\, Arial\, sans-serif\;"><span style="font-size:16px\;"><span style="color:#000000\;">Live music featuring local musicians and an artist vendor market - meet other creatives and support artists and musicians.</span></span></p>\n\n<p style="margin: 0px\; padding: 10px 0px 0px\; box-sizing: border-box\; font-size: 16px\; line-height: 1.5rem\; color: rgb(111\, 114\, 135)\; font-family: &quot\;Neue Plak&quot\;\, -apple-system\, BlinkMacSystemFont\, Roboto\, &quot\;Helvetica Neue&quot\;\, Helvetica\, Tahoma\, Arial\, sans-serif\;"><span style="font-size:16px\;"><span style="color:#000000\;">Vendors wanted! We are looking for creatives\, makers\, artists\, and handmade goods. All works should be made\, curated\, or collected by the vendor.</span></span></p>\n
LOCATION:Backfence Society 110 S Citrus Ave. Vista\, CA 92084
UID:e.493.28366
SEQUENCE:3
DTSTAMP:20260423T041038Z
URL:https://business.vistachamber.org/events/details/alley-art-on-the-asphalt-28366
END:VEVENT

END:VCALENDAR
