BEGIN:VCALENDAR
VERSION:2.0
PRODID:-//ChamberMaster//Event Calendar 2.0//EN
METHOD:PUBLISH
X-PUBLISHED-TTL:P3D
REFRESH-INTERVAL:P3D
CALSCALE:GREGORIAN
BEGIN:VEVENT
DTSTART:20240908T000000Z
DTEND:20240908T040000Z
X-MICROSOFT-CDO-ALLDAYEVENT:FALSE
SUMMARY:Alta Vista Botanical Garden 25th Anniversary
DESCRIPTION:Over the past two decades\, AVBG has evolved into a sanctuary of tranquility and natural splendor. Visitors are greeted by a harmonious blend of flora\, each corner thoughtfully designed to showcase the diversity of plant life.\n\n\nAs we celebrate 25 years of AVBG\, it brings us great pleasure to share some exciting news. To mark this significant milestone\, we are hosting a dinner gala event on September 7\, 2024. The gala aims to raise funds for the continued growth and development of AVBG\, ensuring that it remains a vibrant and thriving space for generations to come. Your support and attendance at this event would mean the world to us as we embark on the next chapter of our journey.
X-ALT-DESC;FMTTYPE=text/html:<h5 class="elementor-heading-title elementor-size-default" style="box-sizing: border-box\; color: rgb(39\, 39\, 39)\; margin: 0px\; font-size: 18px\; line-height: 1.5em\; font-family: Poppins\, sans-serif\; padding: 0px\;">Over the past two decades\, AVBG has evolved into a sanctuary of tranquility and natural splendor. Visitors are greeted by a harmonious blend of flora\, each corner thoughtfully designed to showcase the diversity of plant life.</h5>\n<br />\n<span style="color: rgb(58\, 58\, 58)\; font-family: Poppins\, sans-serif\; font-size: 14px\;">As we celebrate 25 years of AVBG\, it brings us great pleasure to share some exciting news. To mark this significant&nbsp\;milestone\, we are hosting a dinner gala event on September 7\, 2024. The gala aims to raise funds for the continued&nbsp\;growth and development of AVBG\, ensuring that it remains a vibrant and thriving space for generations to come. Your&nbsp\;support and attendance at this event would mean the world to us as we embark on the next chapter of our journey.</span>
LOCATION:Alta Vista Botanical Gardens 1270 Vale Terrace Dr.
UID:e.493.27568
SEQUENCE:3
DTSTAMP:20260422T230732Z
URL:https://business.vistachamber.org/events/details/alta-vista-botanical-garden-25th-anniversary-27568
END:VEVENT

END:VCALENDAR
