BEGIN:VCALENDAR
VERSION:2.0
PRODID:-//ChamberMaster//Event Calendar 2.0//EN
METHOD:PUBLISH
X-PUBLISHED-TTL:P3D
REFRESH-INTERVAL:P3D
CALSCALE:GREGORIAN
BEGIN:VEVENT
DTSTART:20211016T170000Z
DTEND:20211016T220000Z
X-MICROSOFT-CDO-ALLDAYEVENT:FALSE
SUMMARY:Alta Vista Gardens Fun Festival
DESCRIPTION:Fall Fun Festival at Alta Vista Botanical Gardens - CALL for VENDORS\n\n \n\nAlta Vista Botanical Gardens is still open and we're looking forward to our 13th Fall Fun Festival on October 16\, 2021 from 10 am to 3 pm.  This fun family day is a FREE event and all are invited to enjoy kids' activities\, plants and food for sale\, vendor booths and discover our beautiful Gardens\,\n\n \n\nThe vendor application for the Fall Fun Festival is now available on the altavistabotanicalgardens.org website under Events/Fall Fun Festival.  Vendor booth space is only $40.  There are 2 ways to pay - by check or by PayPal using your credit card or debit card.  The PayPal option link is available on the website.\n\n \n\nWe will welcome your crafts\, jewelry\, food\, and business sales booths.\n\n \n\nSign up now - we'll be so happy to share the day with you !!\n\nQuestions? Contact farmerjonesavbg@gmail.com   (760) 822-6824
X-ALT-DESC;FMTTYPE=text/html:<p class="x_MsoNormal" style="color: rgb(32\, 31\, 30)\; margin: 0in 0in 0.0001pt\; line-height: normal\; font-size: 11pt\; font-family: Calibri\, sans-serif\;"><span style="margin: 0px\; padding: 0px\; border: 0px\; font-style: inherit\; font-variant: inherit\; font-weight: inherit\; font-stretch: inherit\; font-size: 12pt\; line-height: inherit\; font-family: &quot\;Comic Sans MS&quot\;\; vertical-align: baseline\; color: inherit\;">Fall Fun Festival at Alta Vista Botanical Gardens - CALL for VENDORS</span></p>\n\n<p class="x_MsoNormal" style="color: rgb(32\, 31\, 30)\; margin: 0in 0in 0.0001pt\; line-height: normal\; font-size: 11pt\; font-family: Calibri\, sans-serif\;"><span style="margin: 0px\; padding: 0px\; border: 0px\; font-style: inherit\; font-variant: inherit\; font-weight: inherit\; font-stretch: inherit\; font-size: 12pt\; line-height: inherit\; font-family: &quot\;Comic Sans MS&quot\;\; vertical-align: baseline\; color: inherit\;">&nbsp\;</span></p>\n\n<p class="x_MsoNormal" style="color: rgb(32\, 31\, 30)\; margin: 0in 0in 0.0001pt\; line-height: normal\; font-size: 11pt\; font-family: Calibri\, sans-serif\;"><span style="margin: 0px\; padding: 0px\; border: 0px\; font-style: inherit\; font-variant: inherit\; font-weight: inherit\; font-stretch: inherit\; font-size: 12pt\; line-height: inherit\; font-family: &quot\;Comic Sans MS&quot\;\; vertical-align: baseline\; color: inherit\;">Alta Vista Botanical Gardens is still open and we&rsquo\;re looking forward to our 13th Fall Fun Festival on October 16\, 2021 from 10 am to 3 pm.<span style="margin: 0px\; padding: 0px\; border: 0px\; font: inherit\; vertical-align: baseline\; color: inherit\;">&nbsp\;&nbsp\;</span>This fun family day is a FREE event and all are invited to enjoy kids&rsquo\; activities\, plants and food for sale\, vendor booths and discover our beautiful Gardens\,</span></p>\n\n<p class="x_MsoNormal" style="color: rgb(32\, 31\, 30)\; margin: 0in 0in 0.0001pt\; line-height: normal\; font-size: 11pt\; font-family: Calibri\, sans-serif\;"><span style="margin: 0px\; padding: 0px\; border: 0px\; font-style: inherit\; font-variant: inherit\; font-weight: inherit\; font-stretch: inherit\; font-size: 12pt\; line-height: inherit\; font-family: &quot\;Comic Sans MS&quot\;\; vertical-align: baseline\; color: inherit\;">&nbsp\;</span></p>\n\n<p class="x_MsoNormal" style="color: rgb(32\, 31\, 30)\; margin: 0in 0in 0.0001pt\; line-height: normal\; font-size: 11pt\; font-family: Calibri\, sans-serif\;"><span style="margin: 0px\; padding: 0px\; border: 0px\; font-style: inherit\; font-variant: inherit\; font-weight: inherit\; font-stretch: inherit\; font-size: 12pt\; line-height: inherit\; font-family: &quot\;Comic Sans MS&quot\;\; vertical-align: baseline\; color: inherit\;">The vendor application for the Fall Fun Festival is now available on the&nbsp\;<u><a data-auth="NotApplicable" data-linkindex="0" href="http://altavistabotanicalgardens.org/" rel="noopener noreferrer" style="margin: 0px\; padding: 0px\; border: 0px\; font: inherit\; vertical-align: baseline\;" target="_blank"><span style="margin: 0px\; padding: 0px\; border: 0px\; font: inherit\; vertical-align: baseline\; color: blue\;">altavistabotanicalgardens.org</span></a>&nbsp\;</u>website under Events/Fall Fun Festival.<span style="margin: 0px\; padding: 0px\; border: 0px\; font: inherit\; vertical-align: baseline\; color: inherit\;">&nbsp\;&nbsp\;</span>Vendor booth space is only $40.<span style="margin: 0px\; padding: 0px\; border: 0px\; font: inherit\; vertical-align: baseline\; color: inherit\;">&nbsp\;&nbsp\;</span>There are 2 ways to pay - by check or by PayPal using your credit card or debit card.&nbsp\; The PayPal option link is available on the website.</span></p>\n\n<p class="x_MsoNormal" style="color: rgb(32\, 31\, 30)\; margin: 0in 0in 0.0001pt\; line-height: normal\; font-size: 11pt\; font-family: Calibri\, sans-serif\;"><span style="margin: 0px\; padding: 0px\; border: 0px\; font-style: inherit\; font-variant: inherit\; font-weight: inherit\; font-stretch: inherit\; font-size: 12pt\; line-height: inherit\; font-family: &quot\;Comic Sans MS&quot\;\; vertical-align: baseline\; color: inherit\;">&nbsp\;</span></p>\n\n<p class="x_MsoNormal" style="color: rgb(32\, 31\, 30)\; margin: 0in 0in 0.0001pt\; line-height: normal\; font-size: 11pt\; font-family: Calibri\, sans-serif\;"><span style="margin: 0px\; padding: 0px\; border: 0px\; font-style: inherit\; font-variant: inherit\; font-weight: inherit\; font-stretch: inherit\; font-size: 12pt\; line-height: inherit\; font-family: &quot\;Comic Sans MS&quot\;\; vertical-align: baseline\; color: inherit\;">We will welcome your crafts\, jewelry\, food\, and business sales booths.</span></p>\n\n<p class="x_MsoNormal" style="color: rgb(32\, 31\, 30)\; margin: 0in 0in 0.0001pt\; line-height: normal\; font-size: 11pt\; font-family: Calibri\, sans-serif\;"><span style="margin: 0px\; padding: 0px\; border: 0px\; font-style: inherit\; font-variant: inherit\; font-weight: inherit\; font-stretch: inherit\; font-size: 12pt\; line-height: inherit\; font-family: &quot\;Comic Sans MS&quot\;\; vertical-align: baseline\; color: inherit\;">&nbsp\;</span></p>\n\n<p align="center" class="x_MsoNormal" style="color: rgb(32\, 31\, 30)\; margin: 0in 0in 0.0001pt\; text-align: center\; line-height: normal\; font-size: 11pt\; font-family: Calibri\, sans-serif\;"><span style="margin: 0px\; padding: 0px\; border: 0px\; font-style: inherit\; font-variant: inherit\; font-weight: inherit\; font-stretch: inherit\; font-size: 12pt\; line-height: inherit\; font-family: &quot\;Comic Sans MS&quot\;\; vertical-align: baseline\; color: inherit\;">Sign up now - we&#39\;ll be so happy to share the day with you !!</span></p>\n\n<p align="center" class="x_MsoNormal" style="color: rgb(32\, 31\, 30)\; margin: 0in 0in 0.0001pt\; text-align: center\; line-height: normal\; font-size: 11pt\; font-family: Calibri\, sans-serif\;"><span style="margin: 0px\; padding: 0px\; border: 0px\; font-style: inherit\; font-variant: inherit\; font-weight: inherit\; font-stretch: inherit\; font-size: 12pt\; line-height: inherit\; font-family: &quot\;Comic Sans MS&quot\;\; vertical-align: baseline\; color: inherit\;">Questions? Contact<span style="margin: 0px\; padding: 0px\; border: 0px\; font: inherit\; vertical-align: baseline\; color: rgb(180\, 95\, 6)\;">&nbsp\;<a data-auth="NotApplicable" data-linkindex="1" href="mailto:farmerjonesavbg@gmail.com" rel="noopener noreferrer" style="margin: 0px\; padding: 0px\; border: 0px\; font: inherit\; vertical-align: baseline\;" target="_blank"><span style="margin: 0px\; padding: 0px\; border: 0px\; font: inherit\; vertical-align: baseline\; color: blue\;">farmerjonesavbg@gmail.com</span></a></span>&nbsp\;&nbsp\; (760) 822-6824</span></p>\n
LOCATION:
UID:e.493.21776
SEQUENCE:3
DTSTAMP:20260425T120424Z
URL:https://business.vistachamber.org/events/details/alta-vista-gardens-fun-festival-21776
END:VEVENT

END:VCALENDAR
