BEGIN:VCALENDAR
VERSION:2.0
PRODID:-//ChamberMaster//Event Calendar 2.0//EN
METHOD:PUBLISH
X-PUBLISHED-TTL:P3D
REFRESH-INTERVAL:P3D
CALSCALE:GREGORIAN
BEGIN:VEVENT
DTSTART:20250726T030000Z
DTEND:20250726T050000Z
X-MICROSOFT-CDO-ALLDAYEVENT:FALSE
SUMMARY:Anastasia The Musical
DESCRIPTION:From Tony winners Terrence McNally\, Stephen Flaherty and Lynn Ahrens\, creators of such Broadway classics as Ragtime and Once On This Island\, this dazzling show transports its audience from the twilight of the Russian Empire to the euphoria of Paris in the 1920s\, as a brave young woman sets out to discover the mystery of her past.\n\nPursued by a ruthless Soviet officer determined to silence her\, Anya enlists the aid of a dashing con man and a lovable ex-aristocrat. Together\, they embark on an epic adventure across Europe. Including classic songs from the motion picture like "Journey to the Past" and "Once Upon a December\," Anastasia explores one determined girl's journey to find home\, love\, and family as she discovers who she was and embraces who she is meant to be.
X-ALT-DESC;FMTTYPE=text/html:<p style="box-sizing: border-box\; margin: 0px 0px 1em\; color: rgb(17\, 11\, 48)\; font-family: &quot\;Open Sans&quot\;\, sans-serif\; font-size: 20px\;"><span style="box-sizing: border-box\; background-color: transparent\; color: inherit\; font-size: inherit\;">From Tony winners Terrence McNally\, Stephen Flaherty and Lynn Ahrens\, creators of such Broadway classics as&nbsp\;<em style="box-sizing: border-box\;">Ragtime</em>&nbsp\;and&nbsp\;<em style="box-sizing: border-box\;">Once On This Island</em>\, this dazzling show transports its audience from the twilight of the Russian Empire to the euphoria of Paris in the 1920s\, as a brave young woman sets out to discover the mystery of her past.</span></p>\n\n<p style="box-sizing: border-box\; margin: 0px 0px 1em\; color: rgb(17\, 11\, 48)\; font-family: &quot\;Open Sans&quot\;\, sans-serif\; font-size: 20px\;"><span style="box-sizing: border-box\; background-color: transparent\; color: inherit\; font-size: inherit\;">Pursued by a ruthless Soviet officer determined to silence her\, Anya enlists the aid of a dashing con man and a lovable ex-aristocrat. Together\, they embark on an epic adventure across Europe. Including classic songs from the motion picture like &ldquo\;Journey to the Past&rdquo\; and &ldquo\;Once Upon a December\,&rdquo\;&nbsp\;<em style="box-sizing: border-box\;">Anastasia</em>&nbsp\;explores one determined girl&rsquo\;s journey to find home\, love\, and family as she discovers who she was and embraces who she is meant to be.</span></p>\n\n<div>&nbsp\;</div>\n\n<h4 style="box-sizing: border-box\; font-family: &quot\;Open Sans&quot\;\, sans-serif\; font-weight: 600\; line-height: 1.1\; color: rgb(17\, 11\, 48)\; margin-top: 10px\; margin-bottom: 10px\; font-size: 24px\;">&nbsp\;</h4>\n
LOCATION:Moonlight Amphitheatre 1250 Vale Terrace Dr. Vista\, CA 92084
UID:e.493.29385
SEQUENCE:3
DTSTAMP:20260422T190857Z
URL:https://business.vistachamber.org/events/details/anastasia-the-musical-29385
END:VEVENT

END:VCALENDAR
