BEGIN:VCALENDAR
VERSION:2.0
PRODID:-//ChamberMaster//Event Calendar 2.0//EN
METHOD:PUBLISH
X-PUBLISHED-TTL:P3D
REFRESH-INTERVAL:P3D
CALSCALE:GREGORIAN
BEGIN:VEVENT
DTSTART:20200812T210000Z
DTEND:20200812T220000Z
X-MICROSOFT-CDO-ALLDAYEVENT:FALSE
SUMMARY:Arcadia Place Dine & Dash
DESCRIPTION:Holiday Retirement Arcadia Place\, an independent retirement living place\, is inviting you to swing by to take a tour of the community and pick up a dinner for two for now charge. This all-inclusive independent living residence includes:\n\nchef-prepared meals\, regular housekeeping\, GPS emergency call system\, diverse activity calendar\, and local transportation.
X-ALT-DESC;FMTTYPE=text/html:Holiday Retirement Arcadia Place\, an independent retirement living place\, is inviting you to swing by to take a tour of the community and pick up a dinner for two for now charge. This all-inclusive independent living residence includes:<br />\nchef-prepared meals\, regular housekeeping\, GPS emergency call system\, diverse activity calendar\, and local transportation.
LOCATION:1080 Arcadia Avenue Vista\, 92084
UID:e.493.20224
SEQUENCE:3
DTSTAMP:20260423T123449Z
URL:https://business.vistachamber.org/events/details/arcadia-place-dine-dash-20224
END:VEVENT

END:VCALENDAR
