BEGIN:VCALENDAR
VERSION:2.0
PRODID:-//ChamberMaster//Event Calendar 2.0//EN
METHOD:PUBLISH
X-PUBLISHED-TTL:P3D
REFRESH-INTERVAL:P3D
CALSCALE:GREGORIAN
BEGIN:VEVENT
DTSTART:20240810T170000Z
DTEND:20240810T200000Z
X-MICROSOFT-CDO-ALLDAYEVENT:FALSE
SUMMARY:Back to School Bash & Community Resource Fair
DESCRIPTION:JOIN US for: - FREE backpacks and school supplies* - Backpack recipient(s) must be present to receive backpack. - FREE hygiene kits* - LIVE DJ playing your favorite hits - FREE lunch\, treats and refreshments for ALL!* - and MORE! *while supplies last Back-to-School Community Resources: - BGC Vista After School Program Sign-ups - BGC Vista Sports Sign-ups - BGC Vista Financial Assistance Sign-ups - CALFRESH registration - SDGE local assistance programs that help reduce monthly utility bills - FREE haircuts from Culture Barber Lounge - MAAC early childhood education support - Mental health services from Lifeline
X-ALT-DESC;FMTTYPE=text/html:JOIN US for: - FREE backpacks and school supplies* - Backpack recipient(s) must be present to receive backpack. - FREE hygiene kits* - LIVE DJ playing your favorite hits - FREE lunch\, treats and refreshments for ALL!* - and MORE! *while supplies last Back-to-School Community Resources: - BGC Vista After School Program Sign-ups - BGC Vista Sports Sign-ups - BGC Vista Financial Assistance Sign-ups - CALFRESH registration - SDGE local assistance programs that help reduce monthly utility bills - FREE haircuts from Culture Barber Lounge - MAAC early childhood education support - Mental health services from Lifeline
LOCATION:410 W. California Ave Vista\, CA 92083
UID:e.493.28645
SEQUENCE:3
DTSTAMP:20260423T023439Z
URL:https://business.vistachamber.org/events/details/back-to-school-bash-community-resource-fair-28645
END:VEVENT

END:VCALENDAR
