BEGIN:VCALENDAR
VERSION:2.0
PRODID:-//ChamberMaster//Event Calendar 2.0//EN
METHOD:PUBLISH
X-PUBLISHED-TTL:P3D
REFRESH-INTERVAL:P3D
CALSCALE:GREGORIAN
BEGIN:VEVENT
DTSTART:20250301T200000Z
DTEND:20250302T050000Z
X-MICROSOFT-CDO-ALLDAYEVENT:FALSE
SUMMARY:Backyard Party: Burgeon at the Grove 1 Year Anniversary
DESCRIPTION:We're celebrating 1 year of Burgeon at the Grove. Pull up to your favorite Vista taproom for a FULL day of killer beer releases\, fresh merch\, Mexican food\, and pre-season baseball! This event is family friendly\, so bring the kiddos and make yourself at home! Thanks Vista fam for welcoming us to the neighborhood - we can't wait to hang with you all soon. Meet us at the Roundabout on S Santa Fe & Guajome St!
X-ALT-DESC;FMTTYPE=text/html:We&#39\;re celebrating 1 year of Burgeon at the Grove. Pull up to your favorite Vista taproom for a FULL day of killer beer releases\, fresh merch\, Mexican food\, and pre-season baseball! This event is family friendly\, so bring the kiddos and make yourself at home! Thanks Vista fam for welcoming us to the neighborhood - we can&#39\;t wait to hang with you all soon. Meet us at the Roundabout on S Santa Fe &amp\; Guajome St!
LOCATION:Burgeon at the Grove 501 S Santa Fe
UID:e.493.29174
SEQUENCE:3
DTSTAMP:20260422T115858Z
URL:https://business.vistachamber.org/events/details/backyard-party-burgeon-at-the-grove-1-year-anniversary-29174
END:VEVENT

END:VCALENDAR
