BEGIN:VCALENDAR
VERSION:2.0
PRODID:-//ChamberMaster//Event Calendar 2.0//EN
METHOD:PUBLISH
X-PUBLISHED-TTL:P3D
REFRESH-INTERVAL:P3D
CALSCALE:GREGORIAN
BEGIN:VEVENT
DTSTART:20220205T190000Z
DTEND:20220206T070000Z
X-MICROSOFT-CDO-ALLDAYEVENT:FALSE
SUMMARY:Barrel and Stave Pour House Celebrates One-Year Anniversary with Customer Appreciation Party
DESCRIPTION:Barrel and Stave Pour House\, located in downtown Vista\, opened to the public in February 2021\, at a time when many restaurants and bars were forced to close. To celebrate its one-year anniversary and thank customers for their strong following during tough times\, Chris White and Steve Thomas\, Co-owners of Barrel and Stave\, are hosting a Customer Appreciation Party on Saturday\, February 5\, 2022 from 11 am to 11 pm at 206 Main Street\, Vista. Throughout the day\, customers will enjoy free hot dogs\, a special anniversary t-shirt\, and live music in the evening.
X-ALT-DESC;FMTTYPE=text/html:<span style="color:black"><span style="font-family:calibri\,sans-serif"><span style="font-size:11.0pt"><strong>Barrel and Stave Pour House</strong>\, located in downtown Vista\, opened to the public in February 2021\, at a time when many restaurants and bars were forced to close. To celebrate its one-year anniversary and thank customers for their strong following during tough times\, Chris White and Steve Thomas\, Co-owners of Barrel and Stave\, are hosting a <strong>Customer Appreciation Party on Saturday\, February 5\, 2022 from 11 am to 11 pm at 206 Main Street\, Vista</strong>. Throughout the day\, customers will enjoy free hot dogs\, a special anniversary t-shirt\, and live music in the evening. </span></span></span>
LOCATION:Barrel and Stave Pour House 206 Main Street\, Vista\, CA
UID:e.493.22099
SEQUENCE:3
DTSTAMP:20260425T041132Z
URL:https://business.vistachamber.org/events/details/barrel-and-stave-pour-house-celebrates-one-year-anniversary-with-customer-appreciation-party-22099
END:VEVENT

END:VCALENDAR
