BEGIN:VCALENDAR
VERSION:2.0
PRODID:-//ChamberMaster//Event Calendar 2.0//EN
METHOD:PUBLISH
X-PUBLISHED-TTL:P3D
REFRESH-INTERVAL:P3D
CALSCALE:GREGORIAN
BEGIN:VEVENT
DTSTART:20241011T010000Z
DTEND:20241011T040000Z
X-MICROSOFT-CDO-ALLDAYEVENT:FALSE
SUMMARY:BINGO Night
DESCRIPTION:Mark your calendar and your "FREE SPACE" and join us for a night of fun and cocktails as we play 5 rounds of BINGO. Win a Misadventure Gift Card for each round! Grand Prize is a $25 Gift Card for winning the Blackout Round!!
X-ALT-DESC;FMTTYPE=text/html:Mark your calendar and your &quot\;FREE SPACE&quot\; and join us for a night of fun and cocktails as we play 5 rounds of BINGO. Win a Misadventure Gift Card for each round! Grand Prize is a $25 Gift Card for winning the Blackout Round!!
LOCATION:Misadventure & Co 2420 Grand Ave. #C Vista\, CA 92081
UID:e.493.28936
SEQUENCE:3
DTSTAMP:20260423T021836Z
URL:https://business.vistachamber.org/events/details/bingo-night-10-10-2024-28936
END:VEVENT

END:VCALENDAR
