BEGIN:VCALENDAR
VERSION:2.0
PRODID:-//ChamberMaster//Event Calendar 2.0//EN
METHOD:PUBLISH
X-PUBLISHED-TTL:P3D
REFRESH-INTERVAL:P3D
CALSCALE:GREGORIAN
BEGIN:VEVENT
DTSTART;VALUE=DATE:20210911
DTEND;VALUE=DATE:20210912
TRANSP:TRANSPARENT
X-MICROSOFT-CDO-ALLDAYEVENT:TRUE
SUMMARY:Blues Festival
DESCRIPTION:The AimLoan.com San Diego Blues Festival is back for its eleventh year on the downtown San Diego waterfront on Saturday\, Sept. 11 from 11 a.m. to 7 p.m.!\n			\n		\n		\n			\n			This year's event is an annual fundraiser for the Food Bank and will feature nine incredible blues acts\, including Tracy Lee Nelson\, Aki Kumar\, Tia Carroll\, Backtrack Blues Band\, The Fremonts\, Nikki Hill\, Rick Estrin & the Nightcats\, Christone "Kingfish" Ingram\, and our headliner\, Grammy-nominated sister rock-duo\, Larkin Poe.\n			\n		\n		\n			\n			Tickets are on sale now starting at $40. Children 12 and under receive free entry to the festival with a paid adult ticketholder. Whether you choose the VIP experience or decide to bring out your best lawn chairs for the perfect viewing spot on the grassy knolls\, it is sure to be a great time had by all. All proceeds benefit the vital hunger-relief programs of the San Diego Food Bank and our North County Food Bank chapter.
X-ALT-DESC;FMTTYPE=text/html:<table border="0" cellpadding="0" cellspacing="0" style="font-variant-numeric: inherit\; font-variant-east-asian: inherit\; font-stretch: inherit\; font-size: 15px\; line-height: inherit\; font-family: &quot\;Segoe UI&quot\;\, &quot\;Segoe UI Web (West European)&quot\;\, &quot\;Segoe UI&quot\;\, -apple-system\, BlinkMacSystemFont\, Roboto\, &quot\;Helvetica Neue&quot\;\, sans-serif\; color: rgb(50\, 49\, 48)\; width: 540px\; border-collapse: collapse\;">\n	<tbody>\n		<tr>\n			<td style="padding: 0px 0px 19.5pt\;">\n			<p style="font-size: 11pt\; font-family: Calibri\, sans-serif\; margin: 0px\; line-height: 15.75pt\;"><span style="font-size:14px\;"><span style="margin: 0px\; padding: 0px\; border: 0px\; font-style: inherit\; font-variant: inherit\; font-weight: inherit\; font-stretch: inherit\; line-height: inherit\; font-family: Arial\, sans-serif\, serif\, EmojiFont\; vertical-align: baseline\; color: rgb(51\, 51\, 51)\;">The&nbsp\;<span style="margin: 0px\; padding: 0px\; border: 0px\; font-style: inherit\; font-variant: inherit\; font-weight: inherit\; font-stretch: inherit\; line-height: inherit\; font-family: inherit\; vertical-align: baseline\; color: inherit\;">AimLoan.com</span>&nbsp\;San Diego Blues Festival is back for its eleventh year on the downtown San Diego waterfront&nbsp\;<span style="margin: 0px\; padding: 0px\; border: 0px\; font-style: inherit\; font-variant: inherit\; font-weight: inherit\; font-stretch: inherit\; line-height: inherit\; font-family: inherit\; vertical-align: baseline\; color: inherit\;">on Saturday\, Sept. 11 from 11 a.m. to 7 p.m.!</span></span></span></p>\n			</td>\n		</tr>\n		<tr>\n			<td style="padding: 0px 0px 19.5pt\;">\n			<p style="font-size: 11pt\; font-family: Calibri\, sans-serif\; margin: 0px\; line-height: 15.75pt\;"><span style="font-size:14px\;"><span style="margin: 0px\; padding: 0px\; border: 0px\; font-style: inherit\; font-variant: inherit\; font-weight: inherit\; font-stretch: inherit\; line-height: inherit\; font-family: Arial\, sans-serif\, serif\, EmojiFont\; vertical-align: baseline\; color: rgb(51\, 51\, 51)\;">This year&rsquo\;s event is an annual fundraiser for the Food Bank and will feature nine incredible blues acts\, including Tracy Lee Nelson\, Aki Kumar\, Tia Carroll\, Backtrack Blues Band\, The Fremonts\, Nikki Hill\, Rick Estrin &amp\; the Nightcats\, Christone &ldquo\;Kingfish&rdquo\; Ingram\, and our headliner\, Grammy-nominated sister rock-duo\, Larkin Poe.</span></span></p>\n			</td>\n		</tr>\n		<tr>\n			<td style="padding: 0px 0px 19.5pt\;">\n			<p style="font-size: 11pt\; font-family: Calibri\, sans-serif\; margin: 0px\; line-height: 15.75pt\;"><span style="font-size:14px\;"><span style="margin: 0px\; padding: 0px\; border: 0px\; font-style: inherit\; font-variant: inherit\; font-weight: inherit\; font-stretch: inherit\; line-height: inherit\; font-family: Arial\, sans-serif\, serif\, EmojiFont\; vertical-align: baseline\; color: rgb(51\, 51\, 51)\;">Tickets are on sale now starting at $40. Children 12 and under receive free entry to the festival with a paid adult ticketholder. Whether you choose the VIP experience or decide to bring out your best lawn chairs for the perfect viewing spot on the grassy knolls\, it is sure to be a great time had by all. All proceeds benefit the vital hunger-relief programs of the San Diego Food Bank and our North County Food Bank chapter.</span></span></p>\n			</td>\n		</tr>\n	</tbody>\n</table>\n
LOCATION:
UID:e.493.21742
SEQUENCE:3
DTSTAMP:20260425T120240Z
URL:https://business.vistachamber.org/events/details/blues-festival-21742
END:VEVENT

END:VCALENDAR
