BEGIN:VCALENDAR
VERSION:2.0
PRODID:-//ChamberMaster//Event Calendar 2.0//EN
METHOD:PUBLISH
X-PUBLISHED-TTL:P3D
REFRESH-INTERVAL:P3D
CALSCALE:GREGORIAN
BEGIN:VEVENT
DTSTART:20251214T210000Z
DTEND:20251214T230000Z
X-MICROSOFT-CDO-ALLDAYEVENT:FALSE
SUMMARY:Bonsai Workshop at Local Roots Kombucha
DESCRIPTION:Beginner workshops are perfect for you to grab your friends\, grab a drink and come make tiny trees! We're bringing the awesome art of bonsai out of the hedged in gardens and into the streets! Or at least into your favorite bars/breweries/pubs. Bonsai Bar is a night of fun you don't want to miss. Learn the fundamental skills and techniques behind the art of bonsai while enjoying a night out with friends! Our teachers will introduce core concepts and guide your experience as you pot\, prune\, and design your very own bonsai tree! Our Guarantee: These tiny trees are so hardy we guarantee you can keep yours alive\, or we'll replace it. This workshop will be hosted at Local Roots Kombucha. Local Roots began with the simple goal of creating a better-for-you alcohol that gives back to the local community as much as it does your gut. The name Local Roots was derived from our passion for bringing people together\, sharing and instilling a sense of community. The word 'local' is defined by belonging or relating to a particular area or neighborhood\, while 'roots' is defined as being established deeply with a purpose. Our name is our badge on honor and our brand ethos is centered around always abiding by the culture personified in our brand name. Under 21 policy: Please contact Local Roots Kombucha for details regarding underage entry For more about Bonsai Bar and what to expect at our classes\, visit our website at: https://bonsaibar.com/products/local-roots-kombucha
X-ALT-DESC;FMTTYPE=text/html:Beginner workshops are perfect for you to grab your friends\, grab a drink and come make tiny trees! We&rsquo\;re bringing the awesome art of bonsai out of the hedged in gardens and into the streets! Or at least into your favorite bars/breweries/pubs. Bonsai Bar is a night of fun you don&rsquo\;t want to miss. Learn the fundamental skills and techniques behind the art of bonsai while enjoying a night out with friends! Our teachers will introduce core concepts and guide your experience as you pot\, prune\, and design your very own bonsai tree! Our Guarantee: These tiny trees are so hardy we guarantee you can keep yours alive\, or we&rsquo\;ll replace it. This workshop will be hosted at Local Roots Kombucha. Local Roots began with the simple goal of creating a better-for-you alcohol that gives back to the local community as much as it does your gut. The name Local Roots was derived from our passion for bringing people together\, sharing and instilling a sense of community. The word &lsquo\;local&rsquo\; is defined by belonging or relating to a particular area or neighborhood\, while &lsquo\;roots&rsquo\; is defined as being established deeply with a purpose. Our name is our badge on honor and our brand ethos is centered around always abiding by the culture personified in our brand name. Under 21 policy: Please contact Local Roots Kombucha for details regarding underage entry For more about Bonsai Bar and what to expect at our classes\, visit our website at: https://bonsaibar.com/products/local-roots-kombucha
LOCATION:Local Roots Kombucha 1430 Vantage Ct Suite 101 Vista\, CA 92081
UID:e.493.29596
SEQUENCE:3
DTSTAMP:20260422T154800Z
URL:https://business.vistachamber.org/events/details/bonsai-workshop-at-local-roots-kombucha-12-14-2025-29596
END:VEVENT

END:VCALENDAR
