BEGIN:VCALENDAR
VERSION:2.0
PRODID:-//ChamberMaster//Event Calendar 2.0//EN
METHOD:PUBLISH
X-PUBLISHED-TTL:P3D
REFRESH-INTERVAL:P3D
CALSCALE:GREGORIAN
BEGIN:VEVENT
DTSTART:20251130T200000Z
DTEND:20251201T010000Z
X-MICROSOFT-CDO-ALLDAYEVENT:FALSE
SUMMARY:Booze Brothers Holiday Makers Market
DESCRIPTION:Join us November 30th from 12 5pm at Booze Brothers Brewing Co. in Vista for our Local Makers Market! \n \n\nWe're bringing together 30+ awesome local vendors\, craft beer\, live music by The Blue Bandido\, and smash burgers served up by Party Burgers \n \n\nCome shop small\, sip something good\, and hang with the community.
X-ALT-DESC;FMTTYPE=text/html:<div style="color: rgb(17\, 17\, 17)\; font-family: proxima-nova\; font-size: 15px\; letter-spacing: 0.26px\; white-space-collapse: preserve\;"><span style="font-family:arial\;">Join us November 30th from 12&ndash\;5pm at Booze Brothers Brewing Co.&nbsp\;in Vista for our Local Makers Market!&nbsp\;</span></div>\n&nbsp\;\n\n<div style="color: rgb(17\, 17\, 17)\; font-family: proxima-nova\; font-size: 15px\; letter-spacing: 0.26px\; white-space-collapse: preserve\;"><span style="font-family:arial\;">We&rsquo\;re bringing together 30+ awesome local vendors\, craft beer\, live music by The Blue Bandido\, and smash burgers served up by Party Burgers&nbsp\;</span></div>\n&nbsp\;\n\n<div style="color: rgb(17\, 17\, 17)\; font-family: proxima-nova\; font-size: 15px\; letter-spacing: 0.26px\; white-space-collapse: preserve\;"><span style="font-family:arial\;">Come shop small\, sip something good\, and hang with the community.&nbsp\;</span></div>\n
LOCATION:Booze Brothers Vista 2545 Progress St. Vista\, CA 92081
UID:e.493.29625
SEQUENCE:3
DTSTAMP:20260422T133502Z
URL:https://business.vistachamber.org/events/details/booze-brothers-holiday-makers-market-29625
END:VEVENT

END:VCALENDAR
