BEGIN:VCALENDAR
VERSION:2.0
PRODID:-//ChamberMaster//Event Calendar 2.0//EN
METHOD:PUBLISH
X-PUBLISHED-TTL:P3D
REFRESH-INTERVAL:P3D
CALSCALE:GREGORIAN
BEGIN:VEVENT
DTSTART:20250302T013000Z
DTEND:20250302T060000Z
X-MICROSOFT-CDO-ALLDAYEVENT:FALSE
SUMMARY:Boys & Girls Club of Vista Diamond Gala
DESCRIPTION:Join the Boys & Girls Club of Vista for our 15th Annual Diamond Gala: Gilligan's Gala for a night of inspiration for our youth. The event will include a live & silent auction\, live band & dancing\, performance from our Club kids\, and much more! Tickets and tables are available for purchase on our website. For more information on sponsorships\, please contact development@bgcvista.com
X-ALT-DESC;FMTTYPE=text/html:Join the Boys &amp\; Girls Club of Vista for our 15th Annual Diamond Gala: Gilligan&#39\;s Gala for a night of inspiration for our youth. The event will include a live &amp\; silent auction\, live band &amp\; dancing\, performance from our Club kids\, and much more! Tickets and tables are available for purchase on our website. For more information on sponsorships\, please contact development@bgcvista.com
LOCATION:540 Grand Pacific Dr\, Carlsbad\, CA 92008
UID:e.493.29162
SEQUENCE:3
DTSTAMP:20260422T135058Z
URL:https://business.vistachamber.org/events/details/boys-girls-club-of-vista-diamond-gala-29162
END:VEVENT

END:VCALENDAR
