BEGIN:VCALENDAR
VERSION:2.0
PRODID:-//ChamberMaster//Event Calendar 2.0//EN
METHOD:PUBLISH
X-PUBLISHED-TTL:P3D
REFRESH-INTERVAL:P3D
CALSCALE:GREGORIAN
BEGIN:VEVENT
DTSTART:20251025T180000Z
DTEND:20251025T210000Z
X-MICROSOFT-CDO-ALLDAYEVENT:FALSE
SUMMARY:Brunch Bash Festival
DESCRIPTION:The Brunch Bash: Beer & Wine Festival is a brand-new community event celebrating the best of North County's breweries\, wineries\, and brunch culture. Hosted at the Burtech Family Vineyard Tasting Room in Vista\, California\, the festival will highlight local flavors\, music\, and community spirit\, all while raising funds for a meaningful cause.
X-ALT-DESC;FMTTYPE=text/html:The Brunch Bash: Beer &amp\; Wine Festival is a brand-new community event celebrating the best of North County&rsquo\;s breweries\, wineries\, and brunch culture. Hosted at the Burtech Family Vineyard Tasting Room in Vista\, California\, the festival will highlight local flavors\, music\, and community spirit\, all while raising funds for a meaningful cause.
LOCATION:Burtech Family Vineyard | 1325 Pipeline Drive\, Vista\, CA 92081
UID:e.493.29580
SEQUENCE:3
DTSTAMP:20260421T204139Z
URL:https://business.vistachamber.org/events/details/brunch-bash-festival-29580
END:VEVENT

END:VCALENDAR
