BEGIN:VCALENDAR
VERSION:2.0
PRODID:-//ChamberMaster//Event Calendar 2.0//EN
METHOD:PUBLISH
X-PUBLISHED-TTL:P3D
REFRESH-INTERVAL:P3D
CALSCALE:GREGORIAN
BEGIN:VEVENT
DTSTART:20251015T220000Z
DTEND:20251016T020000Z
X-MICROSOFT-CDO-ALLDAYEVENT:FALSE
SUMMARY:Burtech Family Vineyard Open Market
DESCRIPTION:Join us for the Burtech Farmers Market at Burtech Winery in Vista!\n\n\n\nThis is a free\, family-friendly community event where locals come together to sip wine\, shop local\, and enjoy a relaxed afternoon. Discover fresh plants\, handmade goods\, delicious treats\, and so much more while connecting with small businesses and neighbors in a beautiful winery setting.\n\n\n\nLocation: Burtech Winery\, 1325 Pipeline Dr\, Vista\, CA\n\nDate: Wednesday\, October 15\, 2025\n\nTime: 3:00   7:00 PM\n\n\n\nDon't miss this chance to support local and enjoy a fun afternoon at the vineyard!
X-ALT-DESC;FMTTYPE=text/html:Join us for the Burtech Farmers Market at Burtech Winery in Vista!<br />\n<br />\nThis is a free\, family-friendly community event where locals come together to sip wine\, shop local\, and enjoy a relaxed afternoon. Discover fresh plants\, handmade goods\, delicious treats\, and so much more while connecting with small businesses and neighbors in a beautiful winery setting.<br />\n<br />\n<strong>Location:</strong> Burtech Winery\, 1325 Pipeline Dr\, Vista\, CA<br />\n<strong>Date:</strong> Wednesday\, October 15\, 2025<br />\n<strong>Time:</strong> 3:00 &ndash\; 7:00 PM<br />\n<br />\nDon&rsquo\;t miss this chance to support local and enjoy a fun afternoon at the vineyard!
LOCATION:1325 Pipeline Dr Vista CA 92081
UID:e.493.29576
SEQUENCE:3
DTSTAMP:20260422T003028Z
URL:https://business.vistachamber.org/events/details/burtech-family-vineyard-open-market-29576
END:VEVENT

END:VCALENDAR
