BEGIN:VCALENDAR
VERSION:2.0
PRODID:-//ChamberMaster//Event Calendar 2.0//EN
METHOD:PUBLISH
X-PUBLISHED-TTL:P3D
REFRESH-INTERVAL:P3D
CALSCALE:GREGORIAN
BEGIN:VEVENT
DTSTART:20250924T220000Z
DTEND:20250925T020000Z
X-MICROSOFT-CDO-ALLDAYEVENT:FALSE
SUMMARY:Burtech Farmers Market at Burtech Winery – Free Community Event!
DESCRIPTION:Come sip\, shop\, and stroll at the Burtech Farmers Market at Burtech Winery in Vista!\n\n\n\nWednesday\, Sept 24 3 PM   7 PM Burtech Winery\, 1325 Pipeline Dr\, Vista\n\n\n\nEnjoy a relaxing afternoon filled with local vendors\, fresh plants\, handmade goods\, delicious food\, tasty treats\, and more. Bring your friends\, family\, and neighbors   everyone is welcome! Admission is free\, and it's the perfect way to support local businesses while enjoying the beautiful winery setting. We can't wait to see you there!
X-ALT-DESC;FMTTYPE=text/html:Come sip\, shop\, and stroll at the Burtech Farmers Market at Burtech Winery in Vista!<br />\n<br />\nWednesday\, Sept 24 3 PM &ndash\; 7 PM Burtech Winery\, 1325 Pipeline Dr\, Vista<br />\n<br />\nEnjoy a relaxing afternoon filled with local vendors\, fresh plants\, handmade goods\, delicious food\, tasty treats\, and more. Bring your friends\, family\, and neighbors &mdash\; everyone is welcome! Admission is free\, and it&rsquo\;s the perfect way to support local businesses while enjoying the beautiful winery setting. We can&rsquo\;t wait to see you there!
LOCATION:1325 Pipeline Dr\, Vista CA 92081
UID:e.493.29570
SEQUENCE:3
DTSTAMP:20260421T223854Z
URL:https://business.vistachamber.org/events/details/burtech-farmers-market-at-burtech-winery-free-community-event-29570
END:VEVENT

END:VCALENDAR
