BEGIN:VCALENDAR
VERSION:2.0
PRODID:-//ChamberMaster//Event Calendar 2.0//EN
METHOD:PUBLISH
X-PUBLISHED-TTL:P3D
REFRESH-INTERVAL:P3D
CALSCALE:GREGORIAN
BEGIN:VEVENT
DTSTART:20120524T143000Z
DTEND:20120524T160000Z
X-MICROSOFT-CDO-ALLDAYEVENT:FALSE
SUMMARY:Business Park Council Meeting
DESCRIPTION:Come find out what is going on in the Vista Business Park.  Our Monthly meetings are hosted by different Chamber Businesses each month. This month our meeting will be at ............ Our guest speaker is ..............
X-ALT-DESC;FMTTYPE=text/html:<div>Come find out what is going on in the Vista Business Park.&nbsp\; Our Monthly meetings are hosted by different Chamber Businesses each month.</div><div>&nbsp\;</div><div>This month our meeting will be at ............</div><div>&nbsp\;</div><div>Our guest speaker is ..............</div><div>&nbsp\;</div><div>&nbsp\;</div>
LOCATION:
UID:e.493.1037
SEQUENCE:3
DTSTAMP:20260423T155741Z
URL:https://business.vistachamber.org/events/details/business-park-council-meeting-05-24-2012-1037
END:VEVENT

END:VCALENDAR
