BEGIN:VCALENDAR
VERSION:2.0
PRODID:-//ChamberMaster//Event Calendar 2.0//EN
METHOD:PUBLISH
X-PUBLISHED-TTL:P3D
REFRESH-INTERVAL:P3D
CALSCALE:GREGORIAN
BEGIN:VEVENT
DTSTART:20120927T143000Z
DTEND:20120927T160000Z
X-MICROSOFT-CDO-ALLDAYEVENT:FALSE
SUMMARY:Business Park Council Meeting
DESCRIPTION:Come find out what is going on in the Vista Business Park.  Our Monthly meetings are hosted by different Chamber Businesses each month.\n\n	 \n\n	This month our meeting will be at Hyatt Place \n\n	Our guest speaker is Eric Eng &Carrie Brooks
X-ALT-DESC;FMTTYPE=text/html:<div>\n	Come find out what is going on in the Vista Business Park.&nbsp\; Our Monthly meetings are hosted by different Chamber Businesses each month.</div>\n<div>\n	&nbsp\;</div>\n<div>\n	This month our meeting will be at&nbsp\;Hyatt Place&nbsp\;</div>\n<div>\n	Our guest speaker is&nbsp\;Eric Eng&nbsp\;&amp\;Carrie Brooks&nbsp\;</div>\n
LOCATION:Hyatt Place 2645 S. Melrose Drive Vista
UID:e.493.1041
SEQUENCE:3
DTSTAMP:20260423T155715Z
URL:https://business.vistachamber.org/events/details/business-park-council-meeting-09-27-2012-1041
END:VEVENT

END:VCALENDAR
