BEGIN:VCALENDAR
VERSION:2.0
PRODID:-//ChamberMaster//Event Calendar 2.0//EN
METHOD:PUBLISH
X-PUBLISHED-TTL:P3D
REFRESH-INTERVAL:P3D
CALSCALE:GREGORIAN
BEGIN:VEVENT
DTSTART:20240810T160000Z
DTEND:20240810T210000Z
X-MICROSOFT-CDO-ALLDAYEVENT:FALSE
SUMMARY:Children's Health Fair
DESCRIPTION:As the new school year approaches\, our focus is on ensuring children are healthy\, strong\, and empowered. Join us on Saturday\, August 10 from 9am-2pm at VCC: Vale Terrace (1000 Vale Terrace Dr.\, Vista\, CA 92084\, for a fun-filled day featuring free school supplies (available while supplies last)\, informative community resource booths\, engaging activities for all ages\, and a chance to win exciting prizes in our opportunity drawing! Our event is not just about fun and games\; it's also an opportunity to connect with valuable community resources.
X-ALT-DESC;FMTTYPE=text/html:<span style="color:#222222\;"><span style="font-family:helvetica\;"><span style="font-size:10.5pt\;">As the new school year approaches\, our focus is on ensuring children are healthy\, strong\, and empowered. Join us on Saturday\, August 10 from 9am-2pm at VCC: Vale Terrace (1000 Vale Terrace Dr.\, Vista\, CA 92084\, for a fun-filled day featuring free school supplies (available while supplies last)\, informative community resource booths\, engaging activities for all ages\, and a chance to win exciting prizes in our opportunity drawing! Our event is not just about fun and games\; it&rsquo\;s also an opportunity to connect with valuable community resources.</span></span></span>
LOCATION:Vista Community Clinic 1000 Vale Terrace Dr. Vista\, CA 92084
UID:e.493.28662
SEQUENCE:3
DTSTAMP:20260423T023623Z
URL:https://business.vistachamber.org/events/details/children-s-health-fair-28662
END:VEVENT

END:VCALENDAR
