BEGIN:VCALENDAR
VERSION:2.0
PRODID:-//ChamberMaster//Event Calendar 2.0//EN
METHOD:PUBLISH
X-PUBLISHED-TTL:P3D
REFRESH-INTERVAL:P3D
CALSCALE:GREGORIAN
BEGIN:VEVENT
DTSTART:20251225T010000Z
DTEND:20251225T060000Z
X-MICROSOFT-CDO-ALLDAYEVENT:FALSE
SUMMARY:Christmas Eve services
DESCRIPTION:Christmas Eve Services\n\nWednesday\, Dec. 24\n\n5:00 p.m. - Family Candlelight Service\n\n7:00 p.m. - Traditional Worship with Choir and Candle lighting
X-ALT-DESC;FMTTYPE=text/html:Christmas Eve Services<br />\nWednesday\, Dec. 24<br />\n5:00 p.m. - Family Candlelight Service<br />\n7:00 p.m. - Traditional Worship with Choir and Candle lighting<br />\n&nbsp\;
LOCATION:United Methodist Church of Vista\, 490 S. Melrose Drive\, Vista\, CA 92081
UID:e.493.24878
SEQUENCE:3
DTSTAMP:20260422T154503Z
URL:https://business.vistachamber.org/events/details/christmas-eve-services-24878
END:VEVENT

END:VCALENDAR
