BEGIN:VCALENDAR
VERSION:2.0
PRODID:-//ChamberMaster//Event Calendar 2.0//EN
METHOD:PUBLISH
X-PUBLISHED-TTL:P3D
REFRESH-INTERVAL:P3D
CALSCALE:GREGORIAN
BEGIN:VEVENT
DTSTART:20190426T185500Z
DTEND:20190426T201500Z
X-MICROSOFT-CDO-ALLDAYEVENT:FALSE
SUMMARY:Closed for lunch
DESCRIPTION:The Chamber office will be closed for lunch from 11:55 a.m. to 1:15 p.m.\n\nWe are sorry if this is inconvenient for you.
X-ALT-DESC;FMTTYPE=text/html:The Chamber office will be closed for lunch from 11:55 a.m. to 1:15 p.m.<br />\nWe are sorry if this is inconvenient for you.&nbsp\;
LOCATION:
UID:e.493.19013
SEQUENCE:3
DTSTAMP:20260421T101226Z
URL:https://business.vistachamber.org/events/details/closed-for-lunch-19013
END:VEVENT

END:VCALENDAR
