BEGIN:VCALENDAR
VERSION:2.0
PRODID:-//ChamberMaster//Event Calendar 2.0//EN
METHOD:PUBLISH
X-PUBLISHED-TTL:P3D
REFRESH-INTERVAL:P3D
CALSCALE:GREGORIAN
BEGIN:VEVENT
DTSTART:20241024T010000Z
DTEND:20241024T040000Z
X-MICROSOFT-CDO-ALLDAYEVENT:FALSE
SUMMARY:COCKTAIL Class and Food Pairing
DESCRIPTION:Join us as we walk you through how to make 3 of our very own Misadventure house crafted COCKTAILS hosted by our seasoned bartenders. Each COCKTAIL will be paired with a 3 course curated food tasting menu selected by our Master Chef Kyle.
X-ALT-DESC;FMTTYPE=text/html:Join us as we walk you through how to make 3 of our very own Misadventure house crafted COCKTAILS hosted by our seasoned bartenders. Each COCKTAIL will be paired with a 3 course curated food tasting menu selected by our Master Chef Kyle.
LOCATION:Misadventure & Co 2420 Grand Ave. #C Vista\, CA 92081
UID:e.493.28941
SEQUENCE:3
DTSTAMP:20260423T021803Z
URL:https://business.vistachamber.org/events/details/cocktail-class-and-food-pairing-10-23-2024-28941
END:VEVENT

END:VCALENDAR
