BEGIN:VCALENDAR
VERSION:2.0
PRODID:-//ChamberMaster//Event Calendar 2.0//EN
METHOD:PUBLISH
X-PUBLISHED-TTL:P3D
REFRESH-INTERVAL:P3D
CALSCALE:GREGORIAN
BEGIN:VEVENT
DTSTART:20250716T153000Z
DTEND:20250716T163000Z
X-MICROSOFT-CDO-ALLDAYEVENT:FALSE
SUMMARY:Coffee & Conversation - CANCELLED
DESCRIPTION:Coffee & Conversation is cancelled this month.\n\n\n\nDo you prefer meeting people in a relaxed environment? Join us for a morning coffee while netweaving and making relationship-based referrals with fellow Chamber members.\n\n\n\nVista Chamber CEO Rachel Beld leads this group that meets every third Wednesday of the month. Event only open to members.
X-ALT-DESC;FMTTYPE=text/html:<span style="font-family: arial\; font-size: 16px\;"><span style="color:#FF0000\;"><strong>Coffee &amp\; Conversation is cancelled this month.</strong></span><br />\n<br />\nDo you prefer meeting people in a relaxed environment? Join us for a morning coffee while netweaving and making relationship-based referrals with fellow Chamber members.</span><br style="font-family: arial\; font-size: 16px\;" />\n<br style="font-family: arial\; font-size: 16px\;" />\n<span style="font-family: arial\; font-size: 16px\;">Vista Chamber CEO Rachel Beld leads this group that meets every third Wednesday of the month. Event only open to members.</span>
LOCATION:Cat & Craft Cafe 3211 Business Park Drive #3b Vista\, CA 92081
UID:e.493.22750
SEQUENCE:3
DTSTAMP:20260422T190450Z
URL:https://business.vistachamber.org/events/details/coffee-conversation-cancelled-22750
END:VEVENT

END:VCALENDAR
