BEGIN:VCALENDAR
VERSION:2.0
PRODID:-//ChamberMaster//Event Calendar 2.0//EN
METHOD:PUBLISH
X-PUBLISHED-TTL:P3D
REFRESH-INTERVAL:P3D
CALSCALE:GREGORIAN
BEGIN:VEVENT
DTSTART:20210629T170000Z
DTEND:20210629T183000Z
X-MICROSOFT-CDO-ALLDAYEVENT:FALSE
SUMMARY:Coffee with Kilmer
DESCRIPTION:Coffee with Kilmer\, an informative and interactive webinar for parents\, families\, and caregivers caring for loved ones with disabilities will be held online on Tuesday\, June 29\, 2021\, from 10 a.m.-11:30 a.m. The forum is free to attend.\n\nTopics will include:\n\n\n	Update on TERI programs\n	Grand opening of the Tom and Mary Tomlinson Vocational Center\n	Campus of Life Update\n	A Smile Is Never Far Away Fundraiser Update\n	A chance to have your questions answered by TERI CEO Cheryl Kilmer.\n\n\n\nTo register for this free webinar please click the link https://www.eventbrite.com/e/coffee-with-kilmer-tickets-155708037933
X-ALT-DESC;FMTTYPE=text/html:<p>Coffee with Kilmer\, an informative and interactive webinar for parents\, families\, and caregivers caring for loved ones with disabilities will be held online on Tuesday\, June 29\, 2021\, from 10 a.m.-11:30 a.m. The forum is free to attend.</p>\n\n<p>Topics will include:</p>\n\n<ul>\n	<li>Update on TERI programs</li>\n	<li>Grand opening of the Tom and Mary Tomlinson Vocational Center</li>\n	<li>Campus of Life Update</li>\n	<li>A Smile Is Never Far Away Fundraiser Update</li>\n	<li>A chance to have your questions answered by TERI CEO Cheryl Kilmer.</li>\n</ul>\n<br />\nTo register for this free webinar please click the link&nbsp\;<a href="https://www.eventbrite.com/e/coffee-with-kilmer-tickets-155708037933">https://www.eventbrite.com/e/coffee-with-kilmer-tickets-155708037933</a><br />\n<br />\n<br />\n&nbsp\;
LOCATION:Virtual
UID:e.493.20654
SEQUENCE:3
DTSTAMP:20260421T211623Z
URL:https://business.vistachamber.org/events/details/coffee-with-kilmer-20654
END:VEVENT

END:VCALENDAR
