BEGIN:VCALENDAR
VERSION:2.0
PRODID:-//ChamberMaster//Event Calendar 2.0//EN
METHOD:PUBLISH
X-PUBLISHED-TTL:P3D
REFRESH-INTERVAL:P3D
CALSCALE:GREGORIAN
BEGIN:VEVENT
DTSTART:20190901T023000Z
DTEND:20190901T040000Z
X-MICROSOFT-CDO-ALLDAYEVENT:FALSE
SUMMARY:Comedy and Hypnosis
DESCRIPTION:The Vista Elks Lodge is proud to present Dinner and Your Favorite Comedy Hypnotist\, Lori Fay. "A side-splitting\, knock your socks off\, hilarious\, hypnosis show!"\n\nTickets include: Beef Stroganoff Dinner & Show.
X-ALT-DESC;FMTTYPE=text/html:The Vista Elks Lodge is proud to present Dinner and Your Favorite Comedy Hypnotist\, Lori Fay. &quot\;A side-splitting\, knock your socks off\, hilarious\, hypnosis show!&quot\;<br />\nTickets include: Beef Stroganoff Dinner &amp\; Show.
LOCATION:Vista Elks Lodge 1947 E. Vista Way Vista
UID:e.493.19221
SEQUENCE:3
DTSTAMP:20260419T171140Z
URL:https://business.vistachamber.org/events/details/comedy-and-hypnosis-19221
END:VEVENT

END:VCALENDAR
