BEGIN:VCALENDAR
VERSION:2.0
PRODID:-//ChamberMaster//Event Calendar 2.0//EN
METHOD:PUBLISH
X-PUBLISHED-TTL:P3D
REFRESH-INTERVAL:P3D
CALSCALE:GREGORIAN
BEGIN:VEVENT
DTSTART:20251220T010000Z
DTEND:20251220T050000Z
X-MICROSOFT-CDO-ALLDAYEVENT:FALSE
SUMMARY:Cowboy Christmas
DESCRIPTION:Yee Haw and Heck Yea we are jumping on the Cowboy Craze! Come down and enjoy Vista's first ever Cowboy Christmas. Event is Friday\, December 19th starting at 5:00PM till 9:00PM. But the fun doesn't stop there\, stay after and enjoy live country music in some downtown establishments. This will be an event to remember. See below for more details.
X-ALT-DESC;FMTTYPE=text/html:<span class="x-el x-el-span c1-1o c1-1p c1-b c1-8i c1-45 c1-6r c1-8j" style="box-sizing: inherit\; font-family: Quicksand\, sans-serif\; color: rgb(94\, 94\, 94)\; font-weight: 700\; font-size: 23px\; line-height: inherit\; text-align: center\;">Yee Haw and Heck Yea we are jumping on the Cowboy Craze! Come down and enjoy Vista&#39\;s first ever Cowboy Christmas. Event is Friday\, December 19th starting at 5:00PM till 9:00PM. But the fun doesn&#39\;t stop there\, stay after and enjoy live country music in some downtown establishments. This will be an event to remember. See below for more details.</span>
LOCATION:Downtown Vista
UID:e.493.29629
SEQUENCE:3
DTSTAMP:20260422T154509Z
URL:https://business.vistachamber.org/events/details/cowboy-christmas-29629
END:VEVENT

END:VCALENDAR
