BEGIN:VCALENDAR
VERSION:2.0
PRODID:-//ChamberMaster//Event Calendar 2.0//EN
METHOD:PUBLISH
X-PUBLISHED-TTL:P3D
REFRESH-INTERVAL:P3D
CALSCALE:GREGORIAN
BEGIN:VEVENT
DTSTART:20251214T000000Z
DTEND:20251214T043000Z
X-MICROSOFT-CDO-ALLDAYEVENT:FALSE
SUMMARY:Dark X-mas Market and Wild Hunt
DESCRIPTION:The Dark X-mas market is an artisan holiday market showcasing unique and offbeat vendors offering one-of-a-kind gifts. There will be music and live street performances\, food and drink. The evening ends with The Wild Hunt of Vista Krampus Run & Winter Spirits Procession.
X-ALT-DESC;FMTTYPE=text/html:The Dark X-mas market is an artisan holiday market showcasing unique and offbeat vendors offering one-of-a-kind gifts. There will be music and live street performances\, food and drink. The evening ends with The Wild Hunt of Vista Krampus Run &amp\; Winter Spirits Procession.
LOCATION:S. Citrus Ave between Broadway and MainSt.
UID:e.493.29562
SEQUENCE:3
DTSTAMP:20260422T172618Z
URL:https://business.vistachamber.org/events/details/dark-x-mas-market-and-wild-hunt-29562
END:VEVENT

END:VCALENDAR
