BEGIN:VCALENDAR
VERSION:2.0
PRODID:-//ChamberMaster//Event Calendar 2.0//EN
METHOD:PUBLISH
X-PUBLISHED-TTL:P3D
REFRESH-INTERVAL:P3D
CALSCALE:GREGORIAN
BEGIN:VEVENT
DTSTART:20241004T023000Z
DTEND:20241004T050000Z
X-MICROSOFT-CDO-ALLDAYEVENT:FALSE
SUMMARY:Dream Like Taylor: A Live Band Journey through the Enchanted Eras of Taylor Swift
DESCRIPTION:Presented by Moonlight Cultural Foundation. \n\nA fundraising concert supporting Moonlight Youth Theatre in partnership with UC San Diego.\n\nWith her distinct style\, legendary catalog of music\, and a stage presence like no other\, it's easy to see why Taylor Swift is one of the most successful and influential artists of the 21st century. This tribute\, created by Cassie B and developed at UC San Diego features all of Taylor's top hits including\; 'Shake It Off'\, 'Blank Space'\, 'Love Story'\, 'You Belong With Me'\, 'Look What You Made Me Do'\, 'Wildest Dreams.' Dream Like Taylor will premiere at UC San Diego's Epstein Family Amphitheatre in July\, followed by a concert at the Moonlight Amphitheatre on October 3rd. Sing. Dance. Repeat.
X-ALT-DESC;FMTTYPE=text/html:<p style="box-sizing: border-box\; margin: 0px 0px 10px\; font-family: Cabin\, sans-serif\; font-size: 14px\; background-color: rgb(250\, 250\, 250)\;"><span style="font-size:16px\;"><span style="font-family:arial\;">Presented by Moonlight Cultural Foundation.&nbsp\;</span></span></p>\n\n<p style="box-sizing: border-box\; margin: 0px 0px 10px\; font-family: Cabin\, sans-serif\; font-size: 14px\; background-color: rgb(250\, 250\, 250)\;"><span style="font-size:16px\;"><span style="font-family:arial\;">A fundraising concert supporting Moonlight Youth Theatre in partnership with UC San Diego.</span></span></p>\n\n<p style="box-sizing: border-box\; margin: 0px 0px 10px\; font-family: Cabin\, sans-serif\; font-size: 14px\; background-color: rgb(250\, 250\, 250)\;"><span style="font-size:16px\;"><span style="font-family:arial\;">With her distinct style\, legendary catalog of music\, and a stage presence like no other\, it&rsquo\;s easy to see why Taylor Swift is one of the most successful and influential artists of the 21st century. This tribute\, created by Cassie B and developed at UC San Diego features all of Taylor&rsquo\;s top hits including\; &lsquo\;Shake It Off&rsquo\;\, &lsquo\;Blank Space&rsquo\;\, &lsquo\;Love Story&rsquo\;\, &lsquo\;You Belong With Me&rsquo\;\, &lsquo\;Look What You Made Me Do&rsquo\;\, &lsquo\;Wildest Dreams.&rsquo\; Dream Like Taylor will premiere at UC San Diego&rsquo\;s Epstein Family Amphitheatre in July\, followed by a concert at the Moonlight Amphitheatre on October 3rd. Sing. Dance. Repeat.</span></span></p>\n
LOCATION:Moonlight Amphitheatre 1250 Vale Terrace Dr. Vista\, CA 92084
UID:e.493.28362
SEQUENCE:3
DTSTAMP:20260423T023700Z
URL:https://business.vistachamber.org/events/details/dream-like-taylor-a-live-band-journey-through-the-enchanted-eras-of-taylor-swift-28362
END:VEVENT

END:VCALENDAR
