BEGIN:VCALENDAR
VERSION:2.0
PRODID:-//ChamberMaster//Event Calendar 2.0//EN
METHOD:PUBLISH
X-PUBLISHED-TTL:P3D
REFRESH-INTERVAL:P3D
CALSCALE:GREGORIAN
BEGIN:VEVENT
DTSTART:20200311T223000Z
DTEND:20200312T000000Z
X-MICROSOFT-CDO-ALLDAYEVENT:FALSE
SUMMARY:Early Office Closure
DESCRIPTION:The Vista Chamber will be closing early to prepare for the Business Mixer at Prohibition Brewing Co. Please join us from 5 to 7 p.m. at 2004 E Vista Way.
X-ALT-DESC;FMTTYPE=text/html:The Vista Chamber will be closing early to prepare for the Business Mixer at Prohibition Brewing Co. Please join us from 5 to 7 p.m. at&nbsp\;2004 E Vista Way.
LOCATION:
UID:e.493.19681
SEQUENCE:3
DTSTAMP:20260423T010525Z
URL:https://business.vistachamber.org/events/details/early-office-closure-19681
END:VEVENT

END:VCALENDAR
