BEGIN:VCALENDAR
VERSION:2.0
PRODID:-//ChamberMaster//Event Calendar 2.0//EN
METHOD:PUBLISH
X-PUBLISHED-TTL:P3D
REFRESH-INTERVAL:P3D
CALSCALE:GREGORIAN
BEGIN:VEVENT
DTSTART:20190420T143000Z
DTEND:20190420T173000Z
X-MICROSOFT-CDO-ALLDAYEVENT:FALSE
SUMMARY:Easter Egg Scramble and Breakfast
DESCRIPTION:Easter Egg Scramble with Breakfast --15th Annual Vista Optimist Club hosts you with scrambled eggs\, pancakes\, sausage links and homemade hash browns at 7:30 a.m. An egg hunt begins at 10 a.m. sharp. Over 10\,000 eggs will be spread out over 3 baseball fields by age groups so don't worry about the little ones. Please bring baskets\, bags and wheelbarrows for all your goodies! Tickets are $8. Everyone must have a ticket.
X-ALT-DESC;FMTTYPE=text/html:Easter Egg Scramble with Breakfast --15th Annual Vista Optimist Club hosts you with scrambled eggs\, pancakes\, sausage links and homemade hash browns at 7:30 a.m. An egg hunt begins at 10 a.m. sharp. Over 10\,000 eggs will be spread out over 3 baseball fields by age groups so don&#39\;t worry about the little ones. Please bring baskets\, bags and wheelbarrows for all your goodies! Tickets are $8. Everyone must have a ticket.&nbsp\;
LOCATION:Vista Optimist Club 600 Optimist Way Vista\, CA 92081
UID:e.493.18872
SEQUENCE:3
DTSTAMP:20260423T044413Z
URL:https://business.vistachamber.org/events/details/easter-egg-scramble-and-breakfast-18872
END:VEVENT

END:VCALENDAR
