BEGIN:VCALENDAR
VERSION:2.0
PRODID:-//ChamberMaster//Event Calendar 2.0//EN
METHOD:PUBLISH
X-PUBLISHED-TTL:P3D
REFRESH-INTERVAL:P3D
CALSCALE:GREGORIAN
BEGIN:VEVENT
DTSTART:20181110T180000Z
DTEND:20181110T210000Z
X-MICROSOFT-CDO-ALLDAYEVENT:FALSE
SUMMARY:Empowered Couples Brunch
DESCRIPTION:The EmPowered Couples Brunch is a monthly\, in-person gathering for couples who desire to grow stronger together in all areas of life. Hear from inspiring speakers and connect with like-minded couples on business\, health\, marriage\, relationships and so much more. Come to meet other dynamic couples with the intention of experiencing a wonderful date! Couples will enjoy table topics\, monthly\, speakers or panel discussions\, a question and answer segment\, and giveaways. A 5-star Brunch is served once a month. The space is limited\, we encourage you to book now if you feel aligned to attend. Your hosts are Phillip and Brittney Young\, Certified Couples Coaches.
X-ALT-DESC;FMTTYPE=text/html:The EmPowered Couples Brunch is a monthly\, in-person gathering for couples who desire to grow stronger together in all areas of life. Hear from inspiring speakers and connect with like-minded couples on business\, health\, marriage\, relationships and so much more. Come to meet other dynamic couples with the intention of experiencing a wonderful date! Couples will enjoy table topics\, monthly\, speakers or panel discussions\, a question and answer segment\, and giveaways. A 5-star Brunch is served once a month. The space is limited\, we encourage you to book now if you feel aligned to attend. Your hosts are Phillip and Brittney Young\, Certified Couples Coaches.
LOCATION:Shadowridge Golf Club 1980 Gateway Drive\, Vista
UID:e.493.18661
SEQUENCE:3
DTSTAMP:20260424T040944Z
URL:https://business.vistachamber.org/events/details/empowered-couples-brunch-18661
END:VEVENT

END:VCALENDAR
