BEGIN:VCALENDAR
VERSION:2.0
PRODID:-//ChamberMaster//Event Calendar 2.0//EN
METHOD:PUBLISH
X-PUBLISHED-TTL:P3D
REFRESH-INTERVAL:P3D
CALSCALE:GREGORIAN
BEGIN:VEVENT
DTSTART:20181027T160000Z
DTEND:20181028T230000Z
X-MICROSOFT-CDO-ALLDAYEVENT:FALSE
SUMMARY:Fall Antique Engine & Tractor Show
DESCRIPTION:Operating Exhibits Include: blacksmith shop\, model railroad\, building\, weavers barn\, gas engine row\, steam traction barn\, steam engine row\, farmhouse\, school house\, clock and watch exhibit and we'll have tons of our tractos and other equipment running.
X-ALT-DESC;FMTTYPE=text/html:Operating Exhibits Include: blacksmith shop\, model railroad\, building\, weavers barn\, gas engine row\, steam traction barn\, steam engine row\, farmhouse\, school house\, clock and watch exhibit and we&#39\;ll have tons of our tractos and other equipment running.&nbsp\;
LOCATION:Antique Gas & Steam Engine Museum 2040 N. Santa Fe Avenue\, Vista
UID:e.493.18621
SEQUENCE:3
DTSTAMP:20260424T123926Z
URL:https://business.vistachamber.org/events/details/fall-antique-engine-tractor-show-18621
END:VEVENT

END:VCALENDAR
