BEGIN:VCALENDAR
VERSION:2.0
PRODID:-//ChamberMaster//Event Calendar 2.0//EN
METHOD:PUBLISH
X-PUBLISHED-TTL:P3D
REFRESH-INTERVAL:P3D
CALSCALE:GREGORIAN
BEGIN:VEVENT
DTSTART:20201024T160000Z
DTEND:20201025T230000Z
X-MICROSOFT-CDO-ALLDAYEVENT:FALSE
SUMMARY:Fall Antique Engine & Tractor Show
DESCRIPTION:Every year for over 40 years\, we've hosted our Tractor Shows for our community to come to our Museum and see everything that we have to offer. We run everything from the smallest tractor to the Sawmill\, thousands of pieces of our various collections will be running and being demonstrated for you to see! Looms\, spinning wheels\, model trains\, tractors\, engines\, cars\, and so much more! We have an antique equipment parade that starts at 1 p.m. so that our volunteers can show off their special projects that they've worked so hard to keep running\, some pieces that have been passed on from generations and some that have just gotten started. We will also have our very own pumpkin patch right here at the Museum for the second year in a row! We are so excited to invite everyone in our community to come and see our Volunteers hard work and dedication. Come by to take family pictures\, and during our Fall Tractor Show where you can pick your own pumpkin! Sorghum Press Demonstration! We'll be growing sorghum again in 2020\, so if you missed out on getting some last year\, we'll have plenty to go around! On Sunday October 25th\, 2020. . . Kids in Costume get in free! We'll have different areas around the grounds for them to get candy and other prizes! Check out our Instagram (@agsem1976) for more updates! \n\n\n\nMore Information
X-ALT-DESC;FMTTYPE=text/html:Every year for over 40 years\, we&#39\;ve hosted our Tractor Shows for our community to come to our Museum and see everything that we have to offer. We run everything from the smallest tractor to the Sawmill\, thousands of pieces of our various collections will be running and being demonstrated for you to see! Looms\, spinning wheels\, model trains\, tractors\, engines\, cars\, and so much more! We have an antique equipment parade that starts at 1 p.m. so that our volunteers can show off their special projects that they&#39\;ve worked so hard to keep running\, some pieces that have been passed on from generations and some that have just gotten started. We will also have our very own pumpkin patch right here at the Museum for the second year in a row! We are so excited to invite everyone in our community to come and see our Volunteers hard work and dedication. Come by to take family pictures\, and during our Fall Tractor Show where you can pick your own pumpkin! Sorghum Press Demonstration! We&#39\;ll be growing sorghum again in 2020\, so if you missed out on getting some last year\, we&#39\;ll have plenty to go around! On Sunday October 25th\, 2020. . . Kids in Costume get in free! We&#39\;ll have different areas around the grounds for them to get candy and other prizes! Check out our Instagram (@agsem1976) for more updates!&nbsp\;<br />\n<br />\n<a href="https://www.cbs8.com/video/news/local/zevely-zone/zev-zone-tractor-museum/509-8b2f5a11-c02d-4a91-a555-8df1b43d974e">More Information</a>
LOCATION:2040 Santa Fe Ave Vista\, CA 92083
UID:e.493.20240
SEQUENCE:3
DTSTAMP:20260422T071749Z
URL:https://business.vistachamber.org/events/details/fall-antique-engine-tractor-show-20240
END:VEVENT

END:VCALENDAR
