BEGIN:VCALENDAR
VERSION:2.0
PRODID:-//ChamberMaster//Event Calendar 2.0//EN
METHOD:PUBLISH
X-PUBLISHED-TTL:P3D
REFRESH-INTERVAL:P3D
CALSCALE:GREGORIAN
BEGIN:VEVENT
DTSTART:20221015T170000Z
DTEND:20221015T220000Z
X-MICROSOFT-CDO-ALLDAYEVENT:FALSE
SUMMARY:Fall Fun Festival 2022
DESCRIPTION:Fall Fun Festival 2022\n\nJoin our celebration! Our 14th Fall Fun Festival will include the Scarecrow Contest\, kids' crafts and\n\nactivities\, the AVBG GrowGetters Plant Sale\, Music by Vic (guitar and song)\, amazing craft vendors and\n\nthe Amigos de Vista Lions BBQ lunch\, Ice Cream with the Vista Silver Star Foundation .everything will\n\nmake for a perfect day to share with our neighbors and members. YOU need to be a part of the\n\ncelebration!\n\n\n\nCreate your most creative and fantastic scarecrows and bring them to the Gardens on\n\nOctober 14 or 15. We make it easier for you - pick up supplies (sticks\, head\, clothes\, stuffing) on October\n\n8 or October 14 and make your scarecrow at home. You can also just make your own scarecrow and\n\nbring it to the Festival.\n\n\n\nThe Festival is a great chance to get your kids outdoors to discover their environment\, enjoy nature\, dig into gardening\, and share art and music. \n\n\n\nStay informed on all updates on our website:  altavistabotanicalgardens.org/fall-fun-fest/\n\n\n\nVendors:  Now Accepting Fall Fun Festival Vendors! Click here to register! \n\n\n\nQuestions: contact info@altavistabotanicalgardens.org or call (760) 945-3954. \n\nWebsite: altavistabotanicalgardens.org
X-ALT-DESC;FMTTYPE=text/html:<span style="font-size:20px"><strong>Fall Fun Festival 2022</strong></span><br />\nJoin our celebration! Our 14th Fall Fun Festival will include the <span style="color:#2F4F4F"><em><strong>Scarecrow Contest\, kids&rsquo\; crafts and<br />\nactivities\, the AVBG GrowGetters Plant Sale\, Music by Vic (guitar and song)\, amazing craft vendors and<br />\nthe Amigos de Vista Lions BBQ lunch\, Ice Cream with the Vista Silver Star Foundation</strong></em></span>&hellip\;.everything will<br />\nmake for a perfect day to share with our neighbors and members. YOU need to be a part of the<br />\ncelebration!<br />\n<br />\nCreate your most creative and fantastic scarecrows and bring them to the Gardens on<br />\nOctober 14 or 15. We make it easier for you - pick up supplies (sticks\, head\, clothes\, stuffing) on October<br />\n8 or October 14 and make your scarecrow at home. You can also just make your own scarecrow and<br />\nbring it to the Festival.<br />\n<br />\n<span style="color:rgb(20\, 24\, 35)\; font-family:helvetica\,arial\,lucida grande\,tahoma\,verdana\,arial\,sans-serif\; font-size:14px">The Festival is a great chance to get your kids outdoors to discover their environment\, enjoy nature\, dig into gardening\, and share art and music.&nbsp\;</span><br />\n<br />\n<span style="color:rgb(20\, 24\, 35)\; font-family:helvetica\,arial\,lucida grande\,tahoma\,verdana\,arial\,sans-serif\; font-size:14px">Stay informed on all updates on our website:&nbsp\;&nbsp\;</span><a href="https://altavistabotanicalgardens.org/fall-fun-fest/"><span style="color:#2F4F4F"><em><strong>altavistabotanicalgardens.org/fall-fun-fest/</strong></em></span></a><br />\n<br />\n<span style="color:rgb(20\, 24\, 35)\; font-family:helvetica\,arial\,lucida grande\,tahoma\,verdana\,arial\,sans-serif\; font-size:14px"><strong><span style="background-color:#AFEEEE">Vendors:&nbsp\; </span></strong></span><strong><span style="background-color:#AFEEEE">Now Accepting Fall Fun Festival Vendors! </span><a href="https://altavistabotanicalgardens.org/fall-fun-fest/"><span style="color:#2F4F4F"><em><span style="background-color:#AFEEEE">Click here to register!</span></em></span></a></strong><span style="color:rgb(20\, 24\, 35)\; font-family:helvetica\,arial\,lucida grande\,tahoma\,verdana\,arial\,sans-serif\; font-size:14px"><strong><span style="background-color:#AFEEEE">&nbsp\;</span></strong></span><br />\n<br />\n<span style="color:rgb(20\, 24\, 35)\; font-family:helvetica\,arial\,lucida grande\,tahoma\,verdana\,arial\,sans-serif">Questions: contact </span><a href="mailto:altavistabotanicalgardens.org"><span style="color:#2F4F4F"><span style="font-family:helvetica\,arial\,lucida grande\,tahoma\,verdana\,arial\,sans-serif"><em><strong>info@</strong></em></span><em><strong>altavistabotanicalgardens.org</strong></em></span></a><span style="color:rgb(20\, 24\, 35)\; font-family:helvetica\,arial\,lucida grande\,tahoma\,verdana\,arial\,sans-serif"> or call <a href="tel:7609453954"><em><strong>(760) 945-3954</strong></em></a>.&nbsp\;</span><br />\n<span style="color:rgb(20\, 24\, 35)\; font-family:helvetica\,arial\,lucida grande\,tahoma\,verdana\,arial\,sans-serif\; font-size:14px">Website: </span><span style="color:#2F4F4F"><em><strong>altavistabotanicalgardens.org</strong></em></span>
LOCATION:1270 Vale Terrace Drive Vista\, CA 92084
UID:e.493.7456
SEQUENCE:3
DTSTAMP:20260424T154508Z
URL:https://business.vistachamber.org/events/details/fall-festival-10-11-2014-7456
END:VEVENT

END:VCALENDAR
