BEGIN:VCALENDAR
VERSION:2.0
PRODID:-//ChamberMaster//Event Calendar 2.0//EN
METHOD:PUBLISH
X-PUBLISHED-TTL:P3D
REFRESH-INTERVAL:P3D
CALSCALE:GREGORIAN
BEGIN:VEVENT
DTSTART:20240804T013000Z
DTEND:20240804T040000Z
X-MICROSOFT-CDO-ALLDAYEVENT:FALSE
SUMMARY:Farm To Table Harvest Dinner
DESCRIPTION:Our Summer Harvest Dinner is set against a serene pond\, offering a calming backdrop for the night's festivities. The event kicks off with a Guided Tour of our regenerative farm\, led by Rich & April\, followed by hors d'oeuvre and a mouthwatering 4-Course Farm to Table Dinner\, thoughtfully crafted by our chef\, paired with fabulous wines from Grafted Cellars and the evening is further elevated by live acoustic soul music performed by Damian DeRobbio & Friends.\n\nThe funds raised from this occasion will assist us in advancing the farm's development and broadening our educational offerings for individuals of all ages.\n\nDon't miss out on this incredible opportunity to connect with nature\, learn about sustainable farming practices\, and enjoy an unforgettable farm-to-table dinner with your loved ones. Join us for our Harvest Dinner and experience the best of what San Diego has to offer.
X-ALT-DESC;FMTTYPE=text/html:<p>Our Summer Harvest Dinner is set against a serene pond\, offering a calming backdrop for the night&#39\;s festivities. The event kicks off with a Guided Tour of our regenerative farm\, led by Rich &amp\; April\, followed by hors d&#39\;oeuvre and a mouthwatering 4-Course Farm to Table Dinner\, thoughtfully crafted by<a href="https://www.marableu.com/" style="color: rgb(216\, 162\, 44)\; text-decoration: none\; padding-bottom: 0.05em\; border-bottom-width: 1px\; border-bottom-style: solid\; border-bottom-color: rgba(216\, 162\, 44\, 0.3)\; transition: border-color 0.15s ease-out\, color 0.15s ease-out\; overflow-wrap: break-word\;"> </a>our chef\, paired with fabulous wines from <a href="https://graftedcellarswinery.com/" style="color: rgb(216\, 162\, 44)\; text-decoration: none\; padding-bottom: 0.05em\; border-bottom-width: 1px\; border-bottom-style: solid\; border-bottom-color: rgba(216\, 162\, 44\, 0.3)\; transition: border-color 0.15s ease-out\, color 0.15s ease-out\; overflow-wrap: break-word\;">Grafted Cellars</a> and the evening is further elevated by live acoustic soul music performed by <a href="https://www.damianderobbio.com/" style="color: rgb(216\, 162\, 44)\; text-decoration: none\; padding-bottom: 0.05em\; border-bottom-width: 1px\; border-bottom-style: solid\; border-bottom-color: rgba(216\, 162\, 44\, 0.3)\; transition: border-color 0.15s ease-out\, color 0.15s ease-out\; overflow-wrap: break-word\;">Damian DeRobbio &amp\; Friends</a>.</p>\n\n<p>The funds raised from this occasion will assist us in advancing the farm&#39\;s development and broadening our educational offerings for individuals of all ages.</p>\n\n<p>Don&#39\;t miss out on this incredible opportunity to connect with nature\, learn about sustainable farming practices\, and enjoy an unforgettable farm-to-table dinner with your loved ones. Join us for our Harvest Dinner and experience the best of what San Diego has to offer.</p>\n
LOCATION:
UID:e.493.28500
SEQUENCE:3
DTSTAMP:20260423T053209Z
URL:https://business.vistachamber.org/events/details/farm-to-table-harvest-dinner-28500
END:VEVENT

END:VCALENDAR
