BEGIN:VCALENDAR
VERSION:2.0
PRODID:-//ChamberMaster//Event Calendar 2.0//EN
METHOD:PUBLISH
X-PUBLISHED-TTL:P3D
REFRESH-INTERVAL:P3D
CALSCALE:GREGORIAN
BEGIN:VEVENT
DTSTART:20251004T010000Z
DTEND:20251004T050000Z
X-MICROSOFT-CDO-ALLDAYEVENT:FALSE
SUMMARY:Final Open House & Raku Night – Veterans Art Project
DESCRIPTION:Celebrate creativity and community at the Veterans Art Project's last Open House & Raku Night of 2025. Watch the dramatic outdoor Raku firing process\, glaze a ceramic piece\, and connect with veterans\, military families\, and local art lovers. Free\, family-friendly\, and open to the public.
X-ALT-DESC;FMTTYPE=text/html:Celebrate creativity and community at the Veterans Art Project&rsquo\;s last Open House &amp\; Raku Night of 2025. Watch the dramatic outdoor Raku firing process\, glaze a ceramic piece\, and connect with veterans\, military families\, and local art lovers. Free\, family-friendly\, and open to the public.
LOCATION:2422 Cades Way\, Vista\, CA
UID:e.493.29563
SEQUENCE:3
DTSTAMP:20260422T114439Z
URL:https://business.vistachamber.org/events/details/final-open-house-raku-night-veterans-art-project-29563
END:VEVENT

END:VCALENDAR
