BEGIN:VCALENDAR
VERSION:2.0
PRODID:-//ChamberMaster//Event Calendar 2.0//EN
METHOD:PUBLISH
X-PUBLISHED-TTL:P3D
REFRESH-INTERVAL:P3D
CALSCALE:GREGORIAN
BEGIN:VEVENT
DTSTART:20181013T200000Z
DTEND:20181013T230000Z
X-MICROSOFT-CDO-ALLDAYEVENT:FALSE
SUMMARY:Fire Open House
DESCRIPTION:In celebration of Fire Prevention Week in October\, the City of Vista Fire Department is hosting an open house at Fire Station #5. Tour the station\, meet Vista firefighters\, and check out the fire engines.
X-ALT-DESC;FMTTYPE=text/html:In celebration of Fire Prevention Week in October\, the City of Vista Fire Department is hosting an open house at Fire Station #5. Tour the station\, meet Vista firefighters\, and check out the fire engines.&nbsp\;
LOCATION:Station #5 2009 S. Melrose Drive\, Vista
UID:e.493.18623
SEQUENCE:3
DTSTAMP:20260425T023345Z
URL:https://business.vistachamber.org/events/details/fire-open-house-18623
END:VEVENT

END:VCALENDAR
