BEGIN:VCALENDAR
VERSION:2.0
PRODID:-//ChamberMaster//Event Calendar 2.0//EN
METHOD:PUBLISH
X-PUBLISHED-TTL:P3D
REFRESH-INTERVAL:P3D
CALSCALE:GREGORIAN
BEGIN:VEVENT
DTSTART:20260318T220000Z
DTEND:20260319T020000Z
X-MICROSOFT-CDO-ALLDAYEVENT:FALSE
SUMMARY:Get Lucky at Burtech Open Market
DESCRIPTION:Join us for a fun afternoon at the Burtech Open Market\, where community\, local vendors\, and great vibes come together! We'll have 30+ local vendors offering unique handmade goods\, gifts\, art\, and local finds. It's the perfect place to shop small\, discover new businesses\, and support our local community. Enjoy live music with DJ Manuel\, creating the perfect atmosphere while you browse\, shop\, and connect with others. Guests can also enjoy a complimentary 1 oz wine pour from Burtech Family Vineyard. Don't forget to enter our raffle giveaway for a chance to win some great prizes!
X-ALT-DESC;FMTTYPE=text/html:Join us for a fun afternoon at the Burtech Open Market\, where community\, local vendors\, and great vibes come together! We&rsquo\;ll have 30+ local vendors offering unique handmade goods\, gifts\, art\, and local finds. It&rsquo\;s the perfect place to shop small\, discover new businesses\, and support our local community. Enjoy live music with DJ Manuel\, creating the perfect atmosphere while you browse\, shop\, and connect with others. Guests can also enjoy a complimentary 1 oz wine pour from Burtech Family Vineyard. Don&rsquo\;t forget to enter our raffle giveaway for a chance to win some great prizes!
LOCATION:1325 Pipeline Drive\, Vista\, CA 92081
UID:e.493.32251
SEQUENCE:3
DTSTAMP:20260422T210238Z
URL:https://business.vistachamber.org/events/details/get-lucky-at-burtech-open-market-32251
END:VEVENT

END:VCALENDAR
