BEGIN:VCALENDAR
VERSION:2.0
PRODID:-//ChamberMaster//Event Calendar 2.0//EN
METHOD:PUBLISH
X-PUBLISHED-TTL:P3D
REFRESH-INTERVAL:P3D
CALSCALE:GREGORIAN
BEGIN:VEVENT
DTSTART:20250720T000000Z
DTEND:20250720T030000Z
X-MICROSOFT-CDO-ALLDAYEVENT:FALSE
SUMMARY:Green Oak Ranch Gala
DESCRIPTION:Join us in a night of fun while also supporting the Green Oak Ranch Ministries.\n\n\n\nLearn More and Purchase Tickets\n\n\n\nInterested in donating an item for the silent or live auction? Please contact Nanette Steenstra at nanette.steenstra@retreadhousing.org
X-ALT-DESC;FMTTYPE=text/html:<span style="font-size:18px\;"><span style="font-family:arial\;">Join us in a night of fun while also supporting the Green Oak Ranch Ministries.<br />\n<br />\n<u><strong><a href="https://www.greenoakranch.org/"><span style="color:#FF0000\;">Learn More and Purchase Tickets</span></a></strong></u><br />\n<br />\nInterested in donating an item for the silent or live auction? Please contact Nanette Steenstra at<strong><span style="font-size:22px\;">&nbsp\;<a data-olk-copy-source="MessageBody" href="mailto:nanette.steenstra@retreadhousing.org" style="border: 0px\; font-variant-numeric: inherit\; font-variant-east-asian: inherit\; font-variant-alternates: inherit\; font-variant-position: inherit\; font-variant-emoji: inherit\; font-stretch: inherit\; font-size: 13.3333px\; line-height: inherit\; font-family: Arial\, sans-serif\; font-optical-sizing: inherit\; font-size-adjust: inherit\; font-kerning: inherit\; font-feature-settings: inherit\; font-variation-settings: inherit\; margin: 0px\; padding: 0px\; vertical-align: baseline\; color: blue\;" title="mailto:nanette.steenstra@retreadhousing.org">nanette.steenstra@retreadhousing.org</a></span></strong></span></span>
LOCATION:Estrella Venue 30158 Mission Rd. Bonsall
UID:e.493.29456
SEQUENCE:3
DTSTAMP:20260422T190725Z
URL:https://business.vistachamber.org/events/details/green-oak-ranch-gala-29456
END:VEVENT

END:VCALENDAR
