BEGIN:VCALENDAR
VERSION:2.0
PRODID:-//ChamberMaster//Event Calendar 2.0//EN
METHOD:PUBLISH
X-PUBLISHED-TTL:P3D
REFRESH-INTERVAL:P3D
CALSCALE:GREGORIAN
BEGIN:VEVENT
DTSTART:20201212T010000Z
DTEND:20201213T040000Z
X-MICROSOFT-CDO-ALLDAYEVENT:FALSE
SUMMARY:Holiday Lights Antique Gas & Steam Engine Museum
DESCRIPTION:Here at the Antique Gas & Steam Engine Museum\, we don't normally hold public events in December but this year we're going to a Holiday Lights event! This new event will feature several of our prominent exhibits and barns decked in their holiday best! We'll also have our Farmhouse open serving cookies and hot chocolate\, and maybe Santa will stop by to say hi to the kids! We'll have to keep an eye out for the Grinch though\, he said he might come down from Mount Crumpit to steal a few cookies. There will be some great photo stands and set ups for everyone to enjoy\, it'll be perfect for the holiday portraits! We'll provide wagon rides around the property so everyone can see the beautiful displays we'll have for everyone to enjoy. We are currently asking for donations of holiday decorations of all kinds\, especially lights\, from all members of our museum and community. So\, if you've started cleaning out your garage and have a couple boxes of decorations that you don't have a use for\, come bring them by during our regular business hours of 10 am - 4 pm between Wednesday and Friday. We hope you'll come by and check it out! We're located at 2040 N. Santa Fe Ave\, Vista CA\, 92083\, and if you have any questions feel free to contact us at (760) 941-1791 or agsemoffice@gmail.com Event Information Holiday Lights Antique Gas & Steam Engine Museum 2040 N Santa Fe Ave.\, Vista\, CA 92083 November 27th & 28th December 4th & 5th\, 11th & 12th\, 18th & 19th 5 p.m. to 8 p.m. $5 adults $2 for kids http://www.agsem.com/Events.php
X-ALT-DESC;FMTTYPE=text/html:Here at the Antique Gas &amp\; Steam Engine Museum\, we don&rsquo\;t normally hold public events in December but this year we&rsquo\;re going to a Holiday Lights event! This new event will feature several of our prominent exhibits and barns decked in their holiday best! We&rsquo\;ll also have our Farmhouse open serving cookies and hot chocolate\, and maybe Santa will stop by to say hi to the kids! We&rsquo\;ll have to keep an eye out for the Grinch though\, he said he might come down from Mount Crumpit to steal a few cookies. There will be some great photo stands and set ups for everyone to enjoy\, it&rsquo\;ll be perfect for the holiday portraits! We&rsquo\;ll provide wagon rides around the property so everyone can see the beautiful displays we&rsquo\;ll have for everyone to enjoy. We are currently asking for donations of holiday decorations of all kinds\, especially lights\, from all members of our museum and community. So\, if you&rsquo\;ve started cleaning out your garage and have a couple boxes of decorations that you don&rsquo\;t have a use for\, come bring them by during our regular business hours of 10 am - 4 pm between Wednesday and Friday. We hope you&rsquo\;ll come by and check it out! We&rsquo\;re located at 2040 N. Santa Fe Ave\, Vista CA\, 92083\, and if you have any questions feel free to contact us at (760) 941-1791 or agsemoffice@gmail.com Event Information Holiday Lights Antique Gas &amp\; Steam Engine Museum 2040 N Santa Fe Ave.\, Vista\, CA 92083 November 27th &amp\; 28th December 4th &amp\; 5th\, 11th &amp\; 12th\, 18th &amp\; 19th 5 p.m. to 8 p.m. $5 adults $2 for kids http://www.agsem.com/Events.php
LOCATION:2040 N Santa Fe Ave Vista\, CA 92083
UID:e.493.20251
SEQUENCE:3
DTSTAMP:20260426T033225Z
URL:https://business.vistachamber.org/events/details/holiday-lights-antique-gas-steam-engine-museum-20251
END:VEVENT

END:VCALENDAR
