BEGIN:VCALENDAR
VERSION:2.0
PRODID:-//ChamberMaster//Event Calendar 2.0//EN
METHOD:PUBLISH
X-PUBLISHED-TTL:P3D
REFRESH-INTERVAL:P3D
CALSCALE:GREGORIAN
BEGIN:VEVENT
DTSTART:20251220T210000Z
DTEND:20251221T010000Z
X-MICROSOFT-CDO-ALLDAYEVENT:FALSE
SUMMARY:Holiday Makers Market
DESCRIPTION:Kickoff the holidays with Vista's monthly indoor Makers Market Sunday\, Dec. 7 from 1-5 p.m. at The Commons\, 802 S. Santa Fe! We're also having a special "bonus" market on Saturday\, Dec. 20 from 1-5 p.m. to celebrate the holidays.\n\n\n\nFeaturing more than thirty vendors\, live local music and the warm magical atmosphere of Christmas! The event is free.\n\n\n\nHandcrafted or small-batch items are offered along with several local non-profits during the market  just in time for your holiday shopping.\n\n\n\nJoin the fun. Support local. Celebrate makers and artists!\n\n\n\nMore details at VistaMakersMarket.com (or check our bio).\n\n\n\nThe Vista Makers Market is a collaboration between The Commons venue and VistaMade.com\, a City of Vista program.
X-ALT-DESC;FMTTYPE=text/html:<span style="color: rgb(0\, 0\, 0)\; font-family: -apple-system\, BlinkMacSystemFont\, &quot\;Segoe UI&quot\;\, Roboto\, Helvetica\, Arial\, sans-serif\; font-size: 14px\;">Kickoff the holidays with Vista&rsquo\;s monthly indoor Makers Market Sunday\, Dec. 7 from 1-5 p.m. at The Commons\, 802 S. Santa Fe! We&rsquo\;re also having a special &ldquo\;bonus&rdquo\; market on Saturday\, Dec. 20 from 1-5 p.m. to celebrate the holidays.</span><br style="color: rgb(0\, 0\, 0)\; font-family: -apple-system\, BlinkMacSystemFont\, &quot\;Segoe UI&quot\;\, Roboto\, Helvetica\, Arial\, sans-serif\; font-size: 14px\;" />\n<br style="color: rgb(0\, 0\, 0)\; font-family: -apple-system\, BlinkMacSystemFont\, &quot\;Segoe UI&quot\;\, Roboto\, Helvetica\, Arial\, sans-serif\; font-size: 14px\;" />\n<span style="color: rgb(0\, 0\, 0)\; font-family: -apple-system\, BlinkMacSystemFont\, &quot\;Segoe UI&quot\;\, Roboto\, Helvetica\, Arial\, sans-serif\; font-size: 14px\;">Featuring more than thirty vendors\, live local music and the warm magical atmosphere of Christmas! The event is free.</span><br style="color: rgb(0\, 0\, 0)\; font-family: -apple-system\, BlinkMacSystemFont\, &quot\;Segoe UI&quot\;\, Roboto\, Helvetica\, Arial\, sans-serif\; font-size: 14px\;" />\n<br style="color: rgb(0\, 0\, 0)\; font-family: -apple-system\, BlinkMacSystemFont\, &quot\;Segoe UI&quot\;\, Roboto\, Helvetica\, Arial\, sans-serif\; font-size: 14px\;" />\n<span style="color: rgb(0\, 0\, 0)\; font-family: -apple-system\, BlinkMacSystemFont\, &quot\;Segoe UI&quot\;\, Roboto\, Helvetica\, Arial\, sans-serif\; font-size: 14px\;">Handcrafted or small-batch items are offered along with several local non-profits during the market&hellip\; just in time for your holiday shopping.</span><br style="color: rgb(0\, 0\, 0)\; font-family: -apple-system\, BlinkMacSystemFont\, &quot\;Segoe UI&quot\;\, Roboto\, Helvetica\, Arial\, sans-serif\; font-size: 14px\;" />\n<br style="color: rgb(0\, 0\, 0)\; font-family: -apple-system\, BlinkMacSystemFont\, &quot\;Segoe UI&quot\;\, Roboto\, Helvetica\, Arial\, sans-serif\; font-size: 14px\;" />\n<span style="color: rgb(0\, 0\, 0)\; font-family: -apple-system\, BlinkMacSystemFont\, &quot\;Segoe UI&quot\;\, Roboto\, Helvetica\, Arial\, sans-serif\; font-size: 14px\;">Join the fun. Support local. Celebrate makers and artists!</span><br style="color: rgb(0\, 0\, 0)\; font-family: -apple-system\, BlinkMacSystemFont\, &quot\;Segoe UI&quot\;\, Roboto\, Helvetica\, Arial\, sans-serif\; font-size: 14px\;" />\n<br style="color: rgb(0\, 0\, 0)\; font-family: -apple-system\, BlinkMacSystemFont\, &quot\;Segoe UI&quot\;\, Roboto\, Helvetica\, Arial\, sans-serif\; font-size: 14px\;" />\n<span style="color: rgb(0\, 0\, 0)\; font-family: -apple-system\, BlinkMacSystemFont\, &quot\;Segoe UI&quot\;\, Roboto\, Helvetica\, Arial\, sans-serif\; font-size: 14px\;">More details at VistaMakersMarket.com (or check our bio).</span><br style="color: rgb(0\, 0\, 0)\; font-family: -apple-system\, BlinkMacSystemFont\, &quot\;Segoe UI&quot\;\, Roboto\, Helvetica\, Arial\, sans-serif\; font-size: 14px\;" />\n<br style="color: rgb(0\, 0\, 0)\; font-family: -apple-system\, BlinkMacSystemFont\, &quot\;Segoe UI&quot\;\, Roboto\, Helvetica\, Arial\, sans-serif\; font-size: 14px\;" />\n<span style="color: rgb(0\, 0\, 0)\; font-family: -apple-system\, BlinkMacSystemFont\, &quot\;Segoe UI&quot\;\, Roboto\, Helvetica\, Arial\, sans-serif\; font-size: 14px\;">The Vista Makers Market is a collaboration between The Commons venue and VistaMade.com\, a City of Vista program.</span>
LOCATION:The Commons 802 S Santa Fe Ave.
UID:e.493.29628
SEQUENCE:3
DTSTAMP:20260422T154536Z
URL:https://business.vistachamber.org/events/details/holiday-makers-market-29628
END:VEVENT

END:VCALENDAR
