BEGIN:VCALENDAR
VERSION:2.0
PRODID:-//ChamberMaster//Event Calendar 2.0//EN
METHOD:PUBLISH
X-PUBLISHED-TTL:P3D
REFRESH-INTERVAL:P3D
CALSCALE:GREGORIAN
BEGIN:VEVENT
DTSTART:20241207T013000Z
DTEND:20241222T043000Z
X-MICROSOFT-CDO-ALLDAYEVENT:FALSE
SUMMARY:Jingle Terrace Live
DESCRIPTION:Save the date!\n \n\nNightly\, December 6-December 21\n\n \n\nMoonlight Amphitheatre\n\nat Brengle Terrace Park\n\n1250 Vale Terrace Drive\, Vista\n\n \n\nThe City of Vista and the Moonlight Amphitheatre's "Jingle Terrace Live" features holiday light shows and activities for all ages. Bring your whole family to enjoy holiday refreshments\, festive displays\, live entertainment\, holiday activities\, photo opportunities\, and other special surprises. All ages welcome!\n\nAdmission\, parking\, and all activities are free!\n\nFood and drinks will be available for purchase.\n\nMore information to come!\n\n\n \n\n\n	Nightly Activities include:\n\n	\n		Video/Light Show\n		Photos with Santa\n		Kids Crafts & Games\n	\n	\n	Scheduled Activities include:\n	\n		Live Reindeer (Dec 6\, 7 & 8)\n		Live Music with the Jingle Band (Dec 7\, 8\, 13\, 14\,15\, 19\, 20 & 21)\n		Costume Characters on select nights\n	\n	\n	More events to be announced!
X-ALT-DESC;FMTTYPE=text/html:<center style="box-sizing: border-box\; color: rgb(17\, 11\, 48)\; font-family: &quot\;Open Sans&quot\;\, sans-serif\; font-size: 20px\;"><font size="10" style="box-sizing: border-box\;"><span style="box-sizing: border-box\; font-weight: 700\;"><span style="box-sizing: border-box\; color: rgb(112\, 48\, 160)\;">Save the date!</span></span></font>\n<h2 style="box-sizing: border-box\; font-family: inherit\; font-weight: 600\; margin-top: 20px\; margin-bottom: 10px\; font-size: 32px\;">&nbsp\;</h2>\n\n<p style="box-sizing: border-box\; margin: 0px 0px 1em\;"><span style="box-sizing: border-box\;">Nightly\, December 6-December 21</span></p>\n\n<h2 style="box-sizing: border-box\; font-family: inherit\; font-weight: 600\; margin-top: 20px\; margin-bottom: 10px\; font-size: 32px\;">&nbsp\;</h2>\n\n<p style="box-sizing: border-box\; margin: 0px 0px 1em\;"><span style="box-sizing: border-box\;">Moonlight Amphitheatre<br style="box-sizing: border-box\;" />\nat Brengle Terrace Park</span><br style="box-sizing: border-box\;" />\n<span style="box-sizing: border-box\; font-size: 20px\;">1250 Vale Terrace Drive\, Vista</span></p>\n\n<p style="box-sizing: border-box\; margin: 0px 0px 1em\;">&nbsp\;</p>\n\n<p style="box-sizing: border-box\; margin: 0px 0px 1em\;"><span style="box-sizing: border-box\; background-color: transparent\; color: inherit\; font-size: inherit\;">The City of Vista and the Moonlight Amphitheatre&rsquo\;s &ldquo\;Jingle Terrace Live&rdquo\; features holiday light shows and activities for all ages. Bring your whole family to enjoy holiday refreshments\, festive displays\, live entertainment\, holiday activities\, photo opportunities\, and other special surprises. All ages welcome!</span></p>\n\n<p style="box-sizing: border-box\; margin: 0px 0px 1em\;"><span style="box-sizing: border-box\; background-color: transparent\; color: inherit\; font-size: inherit\;">Admission\, parking\, and all activities are free!</span></p>\n\n<p style="box-sizing: border-box\; margin: 0px 0px 1em\;"><span style="box-sizing: border-box\; background-color: transparent\; color: inherit\; font-size: inherit\;">Food and drinks will be available for purchase.</span></p>\n\n<p style="box-sizing: border-box\; margin: 0px 0px 1em\;"><span style="box-sizing: border-box\; background-color: transparent\; color: inherit\; font-size: inherit\;"><em style="box-sizing: border-box\;">More information to come!</em></span></p>\n</center>\n\n<p style="box-sizing: border-box\; margin: 0px 0px 1em\; color: rgb(17\, 11\, 48)\; font-family: &quot\;Open Sans&quot\;\, sans-serif\; font-size: 20px\;">&nbsp\;</p>\n\n<ul style="box-sizing: border-box\; margin-top: 8px\; margin-bottom: 18px\; padding-right: 0px\; color: rgb(17\, 11\, 48)\; font-family: &quot\;Open Sans&quot\;\, sans-serif\; font-size: 20px\;" type="disc">\n	<li style="box-sizing: border-box\; padding: 0px\;"><span style="box-sizing: border-box\; font-weight: 700\;">Nightly Activities include:</span>\n\n	<ul style="box-sizing: border-box\; margin: 2px 0px 0px 30px\; padding-right: 0px\; padding-left: 0px\;" type="circle">\n		<li style="box-sizing: border-box\; padding: 0px\;">Video/Light Show</li>\n		<li style="box-sizing: border-box\; padding: 0px\;">Photos with Santa</li>\n		<li style="box-sizing: border-box\; padding: 0px\;">Kids Crafts &amp\; Games</li>\n	</ul>\n	</li>\n	<li style="box-sizing: border-box\; padding: 0px\;"><span style="box-sizing: border-box\; font-weight: 700\;">Scheduled Activities include:</span>\n	<ul style="box-sizing: border-box\; margin: 2px 0px 0px 30px\; padding-right: 0px\; padding-left: 0px\;" type="circle">\n		<li style="box-sizing: border-box\; padding: 0px\;">Live Reindeer (Dec 6\, 7 &amp\; 8)</li>\n		<li style="box-sizing: border-box\; padding: 0px\;">Live Music with the Jingle Band (Dec 7\, 8\, 13\, 14\,15\, 19\, 20 &amp\; 21)</li>\n		<li style="box-sizing: border-box\; padding: 0px\;">Costume Characters on select nights</li>\n	</ul>\n	</li>\n	<li style="box-sizing: border-box\; padding: 0px\;"><span style="box-sizing: border-box\; font-weight: 700\;">More events to be announced!</span></li>\n</ul>\n
LOCATION:Moonlight Amphitheatre 1250 Vale Terrace Dr.
UID:e.493.29020
SEQUENCE:3
DTSTAMP:20260422T225619Z
URL:https://business.vistachamber.org/events/details/jingle-terrace-live-29020
END:VEVENT

END:VCALENDAR
